{"text_format":"1","workbook":"xlsx","n_sheets":14,"sheets":["Disclaimer","Instructions","Configuration","Summary","Intel Chassis","Serverboard Config","Serverboard","Chassis","Processors","Memory","PCI","HardDrive","Peripherals","Revision"],"not_rendered":{"charts":0,"images":1,"macros":1,"external_links":0,"defined_names":78,"comments":2,"pivot_tables":0},"unopened":[],"bounds":{"document_bytes":16777216,"sheet_cells":100000,"rows_first":2000,"rows_last":500,"rows_between":2000,"halvings":0,"cell_chars":16384,"cell_head_chars":4096},"cells_cut":0,"cells_raw":0,"read":"whole","date_system":"1900"}

{"sheet":"Disclaimer","index":0,"n_rows":0,"n_cols":0,"rows_kept":0,"cut":false,"hidden":false,"merged":[]}

{"sheet":"Instructions","index":1,"n_rows":1,"n_cols":1,"rows_kept":1,"cut":false,"hidden":false,"merged":[]}
["        Power Budget Instructions"]

{"sheet":"Configuration","index":2,"n_rows":60,"n_cols":27,"rows_kept":60,"cut":false,"hidden":false,"merged":[[55,0,57,0],[58,0,59,0],[7,0,17,0],[31,0,35,0],[36,0,41,0],[42,0,47,0],[18,0,30,0],[48,0,54,0],[6,21,6,25],[1,0,1,1],[1,2,1,4],[1,5,1,8],[1,17,1,20],[1,21,1,25],[2,0,3,0],[4,0,5,0],[6,2,6,4],[6,5,6,8],[6,17,6,20],[1,9,1,12],[6,9,6,12],[1,13,1,16],[6,13,6,16]]}
["Thermal Config Matrix",null,null,null,null,null,null,null,null,null,null,null,null,null,null,null,null,{"$f":"Summary!D15","v":{"$error":"#DIV/0!"}},"<-- Margin to PS rating"]
["Notes:\n1.  The 25°C configuration alone is limited to elevations of 900m or less\n2.  Use of the designated  PCI slot is limited to add-in cards that have air flow requirements of 100 LFM or less. See add-in card specs for air flow requirements. \n3.  Base system SKUs R2312GZ/GL and R2224GZ/GL, configured with the following IO modules: AXX10GBTWLIOM, AXX2FDRIBIOM and AXX1FDRIBIOM, can only be supported with DRx8 memory.\n4. 130W-4 Core and 135W-8 Core processors may experience throttling, impacting system performance.\n5.  Processor throttling may occur with a system fan failure which may impact system performance.\n6.  Specifically for A3/A4 individual Power Supply selection power  margin is required to meet thermal specifications:\n      a) For dual power supply configuration, power budget must fit within  single power supply rated load and be installed in dual configuration, or\n      b) For single power supply configuration, power budget must be sized with 30% margin to single power supply rated load.\n7.  GPGPU cards may have performance impact during ambient excursions\n8.  When identifying memory in the table, only Rank and Width are required.  Capacity is not required.\n9.  LV refers to low voltage DIMMs (1.35V)\n10.  Cache offload Module can only be installed with 95W processor and DRx8 or equivalent memory for HTA A3/A4 with R2312GZ/GL and R2224GZ/GL System.  Requires an optional RMFBU2 bracket on 2U systems.     \n11. Confirm the case temperature specification for the SSD to make appropriate selection\n12.  Fan fail of dual-rotor fans refers to one rotor fail. \"Fan Fail Support\" indicates if fan fail can be supported with specified configuration in each column.\n13. System must have contents from the Intel accessory kit AGZCOPRODUCT installed to support Intel® Xeon Phi™ or non-Intel GPGPU add-in cards with passive cooling solutions. Only systems configured with S2600GZ (24-DIMM) server board will be supported.\n14. Fan redundancy is not supported in systems configured with 130W-4 Core and 135W-8 Core processors \n15. Due to thermal specification availability restrictions, Intel has NOT verified the thermal compatibility of non-Intel GPGPU cards that utilize a passive cooling solution in its server systems. System integrators should verify non-Intel add-in card air flow requirements from available vendor specifications before integrating them into the system.",null,"Base System SKUs:                     R1304GZ/GL R1208GZ/GL",null,null,"Base System SKUs:    R2312GZ/GL  ",null,null,null,"Base System SKUs:      R2224GZ/GL",null,null,null,"Base System SKUs:     R2216GZ/GL",null,null,null,"Base System SKUs:    R2308GZ/GL ",null,null,null," Base System SKUs:                 R2208GZ/GL"]
["ASHRAE (See note 1)","Classifications","A2","A3","A4","25C","A2","A3","A4","25C","A2","A3","A4","25C","A2","A3","A4","25C","A2","A3","A4","25C","A2","A2","A3","A4","<-- see note 1"]
[null,"Max Ambient","35°C","40°C","45°C","25°C","35°C","40°C","45°C","25°C","35°C","40°C","45°C","25°C","35°C","40°C","45°C","25°C","35°C","40°C","45°C","25°C","35°C","35°C","40°C","45°C"]
["Cooling","Redundant Fan  Configuration","●","●","●","●","●","●","●","●","●","●","●","●","●","●","●","●","●","●","●","●","●","●","●","●"]
[null,"Redundancy Available","●",null,null,"●","●",null,null,"●","●",null,null,"●","●",null,null,"●","●",null,null,"●",null,"●"]
["PS (See note 6)","Power Supplies","See Tool",null,null,"See Tool",null,null,null,"See Tool",null,null,null,"See Tool",null,null,null,"See Tool",null,null,null,"See Tool",null,null,null,null,"<-- see note 6"]
["EP Processors\n( See Notes 4,5)","EP, 60w, 6C (Intel® Xeon® processor E5-2630L)","●","●",null,"●","●",null,null,"●","●",null,null,"●","●","●","●","●","●","●","●","●","●","●","●","●","<-- see note 5"]
[null,"EP, 70w, 8C (Intel® Xeon® processor E5-2650L)","●","●","●","●","●","●",null,"●","●","●",null,"●","●","●","●","●","●","●","●","●","●","●","●","●","<-- see note 5"]
[null,"EP, 95w, 6C (Intel® Xeon®processor E5-2620 , E5-2630, E5-2640)","●","●","●","●","●","●","●","●","●","●","●","●","●","●","●","●","●","●","●","●","●","●","●","●","<-- see note 5"]
[null,"EP, 95w, 8C (Intel® Xeon®processor E5-2650, E5-2660)","●","●","●","●","●","●","●","●","●","●","●","●","●","●","●","●","●","●","●","●","●","●","●","●","<-- see note 5"]
[null,"EP, 115w, 8C (Intel® Xeon®processor E5-2665, E5-2670)","●","●",null,"●","●","●",null,"●","●","●",null,"●","●","●","●","●","●","●","●","●","●","●","●","●","<-- see note 5"]
[null,"EP, 130w, 6C (Intel® Xeon® processor E5-2667)","●","●",null,"●","●",null,null,"●","●",null,null,"●","●","●",null,"●","●","●",null,"●","●","●","●",null,"<-- see note 5"]
[null,"EP, 130w, 8C (Intel® Xeon® processor E5-2680)","●","●",null,"●","●",null,null,"●","●",null,null,"●","●","●",null,"●","●","●",null,"●","●","●","●",null,"<-- see note 5"]
[null,"EP, 135w, 8C (Intel® Xeon® processor E5-2690)","●",null,null,"●",null,null,null,"●","●",null,null,"●","●",null,null,"●","●",null,null,"●","●","●",null,null,"<-- see notes 4 and 5"]
[null,"EP, 80w, 2C (Intel® Xeon® processor E5-2637)","●","●","●","●","●","●","●","●","●","●","●","●","●","●","●","●","●","●","●","●","●","●","●","●","<-- see note 5"]
[null,"EP, 80w, 4C (Intel® Xeon® processor E5-2603, E5-2609)","●","●","●","●","●","●","●","●","●","●","●","●","●","●","●","●","●","●","●","●","●","●","●","●","<-- see note 5"]
[null,"EP, 130w, 4C (Intel® Xeon® processor E5-2643)","●",null,null,"●",null,null,null,"●","●",null,null,"●","●",null,null,"●","●",null,null,"●","●","●",null,null,"<-- see notes 4 and 5"]
["Intel® Xeon® processor E5-2600 v2 product family","EP, 60W, 6C, (E5-2630L v2)","●","●",null,"●","●",null,null,"●","●",null,null,"●","●","●","●","●","●","●","●","●","●","●","●","●","<-- see note 5"]
[null,"EP, 70W, 10C, (E5-2650L v2)","●","●","●","●","●","●",null,"●","●","●",null,"●","●","●","●","●","●","●","●","●","●","●","●","●","<-- see note 5"]
[null,"EP, 80W, 4C, (E5-2603 v2, E5-2609 v2)","●","●","●","●","●","●","●","●","●","●","●","●","●","●","●","●","●","●","●","●","●","●","●","●","<-- see note 5"]
[null,"EP, 80W, 6C, (E5-2620 v2, E5-2630 v2)","●","●","●","●","●","●","●","●","●","●","●","●","●","●","●","●","●","●","●","●","●","●","●","●","<-- see note 5"]
[null,"EP, 95w, 8C, (E5-2640 v2, E5-2650 v2)","●","●","●","●","●","●","●","●","●","●","●","●","●","●","●","●","●","●","●","●","●","●","●","●","<-- see note 5"]
[null,"EP, 95W. 10C, (E5-2660 v2)","●","●","●","●","●","●","●","●","●","●","●","●","●","●","●","●","●","●","●","●","●","●","●","●","<-- see note 5"]
[null,"EP, 115W, 10C, (E5-2670 v2, E5-2680 v2)","●","●",null,"●","●","●",null,"●","●","●",null,"●","●","●","●","●","●","●","●","●","●","●","●","●","<-- see note 5"]
[null,"EP, 115W, 12C, (E5-2695 v2)","●","●",null,"●","●","●",null,"●","●","●",null,"●","●","●","●","●","●","●","●","●","●","●","●","●","<-- see note 5"]
[null,"EP, 130W, 10C, (E5-2690 v2)","●","●",null,"●","●",null,null,"●","●",null,null,"●","●","●",null,"●","●","●",null,"●","●","●","●",null,"<-- see note 5"]
[null,"EP, 130W, 4C, (E5-2637 v2)","●",null,null,"●",null,null,null,"●","●",null,null,"●","●",null,null,"●","●",null,null,"●","●","●",null,null,"<-- see notes 4 and 5"]
[null,"EP, 130W, 6C, (E5-2643 v2)","●",null,null,"●",null,null,null,"●","●",null,null,"●","●",null,null,"●","●",null,null,"●","●","●",null,null,"<-- see notes 4 and 5"]
[null,"EP, 130W, 8C, (E5-2667 v2)","●","●",null,"●","●",null,null,"●","●",null,null,"●","●","●",null,"●","●","●",null,"●","●","●","●",null,"<-- see note 5"]
[null,"EP, 130W, 12C, (E5-2697 v2)","●","●",null,"●","●",null,null,"●","●",null,null,"●","●","●",null,"●","●","●",null,"●","●","●","●",null,"<-- see note 5"]
["Memory Type (See notes 8 and 9)","Dual Rank x8","●","●","●","●","●","●","●","●","●","●","●","●","●","●","●","●","●","●","●","●","●","●","●","●"]
[null,"Dual Rank x4","●","●","●","●","●",null,null,"●","●",null,null,"●","●","●","●","●","●","●","●","●","●","●","●","●"]
[null,"Quad Rank x8","●","●","●","●","●",null,null,"●","●",null,null,"●","●","●","●","●","●","●","●","●","●","●","●","●"]
[null,"Quad Rank x4","●","●",null,"●","●",null,null,"●","●",null,null,"●","●",null,null,"●","●",null,null,"●","●","●"]
[null,"Load Reduced DIMM","●","●",null,"●",null,null,null,"●","●",null,null,"●","●",null,null,"●","●",null,null,"●","●","●"]
["Add-in Cards     (See note 2)","Riser #1 - Bottom Slot (1U riser and 2U riser)","●","●","●","●","●","●","●","●","●","●","●","●","●","●","●","●","●","●","●","●","●","●","●","●"]
[null,"Riser #1 - Middle Slot (2U riser)",null,null,null,"●","●","●","●","●","●","●","●","●","●","●","●","●","●","●","●","●","●","●","●","●","<-- see note 2"]
[null,"Riser #1 - Top Slot (2U riser)",null,null,null,"●","●","●","●","●","●","●","●","●","●","●","●","●","●","●","●","●","●","●","●","●","<-- see note 2"]
[null,"Riser #2 - Bottom Slot (1U riser and 2U riser)","●","●","●","●","●","●","●","●","●","●","●","●","●","●","●","●","●","●","●","●","●","●","●","●"]
[null,"Riser #2 - Middle Slot (2U riser)",null,null,null,"●","●","●","●","●","●","●","●","●","●","●","●","●","●","●","●","●","●","●","●","●"]
[null,"Riser #2 - Top Slot (2U riser)",null,null,null,"●","●","●","●","●","●","●","●","●","●","●","●","●","●","●","●","●","●","●","●","●"]
["I/O Modules (See Note 3)","Intel® Integrated RAID Modules (Mezzanine cards)","●","●","●","●","●","●","●","●","●","●","●","●","●","●","●","●","●","●","●","●","●","●","●","●"]
[null,"AXX10GBTWLIOM - Dual 10GBASE-T IO Module ","●","●","●","●","","","","●","●","","","●","●","●","●","●","●","●","●","●","●","●","●","●","<-- see note 3"]
[null,"AXX10GBNIAIOM - Dual SFP+ port 10GbE IO Module","●","●","●","●","●","●","●","●","●","●","●","●","●","●","●","●","●","●","●","●","●","●","●","●"]
[null,"AXX1FDRIBIOM - Single Port FDR Infiniband IO Module","●","●","●","●","●","●","●","●","●","●","●","●","●","●","●","●","●","●","●","●","●","●","●","●"]
[null,"AXX2FDRIBIOM - Dual Port FDR Infiniband IO Module","●","●","●","●",null,null,null,"●","●",null,null,"●","●","●","●","●","●","●","●","●","●","●","●","●","<-- see note 3"]
[null,"AXX4P1GBPWLIOM - Quad Port 1GbE IO Module","●","●","●","●","●","●","●","●","●","●","●","●","●","●","●","●","●","●","●","●","●","●","●","●"]
["MIC or GPU \n(see note 7)","Intel® Xeon Phi™ or GPGPU wActive Cooling up to 300W","","","","","","","","","","","","●","","","","●","","","","●","●","","●","","<-- See Note 7"]
[null,"Intel® Xeon Phi™ or GPGPU w/Active Cooling up to 225W","","","","","","","","","","","","●","","","","●","","","","●","●","","●","","<-- See Note 7"]
[null,"Intel® Xeon Phi™ w/Passive Cooling up to 225W",null,null,null,null,null,null,null,null,null,null,null,null,null,null,null,"●","●","●","●","●","●","●","●","●","<-- See Note 7 and 13"]
[null,"Intel® Xeon Phi™ w/Passive Cooling up to 245W",null,null,null,null,null,null,null,null,null,null,null,null,null,null,null,"●",null,null,null,"●","●",null,"●",null,"<-- See Note 7 and 13"]
[null,"Intel® Xeon Phi™ w/Passive Cooling up to 300W",null,null,null,null,null,null,null,null,null,null,null,null,null,null,null,null,null,null,null,"●","●",null,null,null,"<-- See Note 7 and 13"]
[null,"Non-Intel GPGPU w/Passive Cooling up to 75W","","","","","","","","","","","","●","●","","","●","●","","","●","●","●","","","<-- See Note 7"]
[null,"Non-Intel GPGPU w/Passive Cooling  > 75W",null,null,null,null,null,null,null,null,null,null,null,null,null,null,null,null,null,null,null,null,null,null,null,null,"<-- See Note 7, 13 and 14"]
["Battery Backup (See note 10)","BBU (rated to 45C)","●",null,"","●","●","","","●","●","","","●","●","","","●","●","","","●","●","●",null,""]
[null,"Supercap (rated to 55C)","●","●","●","●","●","●","●","●","●","●","●","●","●","●","●","●","●","●","●","●","●","●","●","●"]
[null,"Cache Offload Module (rated to 55C)","●","●","●","●","●","●","●","●","●","●","●","●","●","●","●","●","●","●","●","●","●","●","●","●","<-- See note 10"]
["Internal SSD (See note 11)","Rated to 60C","","","","●",null,"","","●",null,"","","●","","","","●","","","","●",null,"",null,""]
[null,"Rated to 70C","","","","●","●","","","●","●","","","●","●","","","●","●","","","●","●","●","",""]

{"sheet":"Summary","index":3,"n_rows":34,"n_cols":9,"rows_kept":34,"cut":false,"hidden":false,"merged":[[0,1,0,3]]}
["Power Budget",{"$f":"CONCATENATE(INDEX(Chassis!$L$3:$L$13,'Intel Chassis'!$B3),\" / \",INDEX(Serverboard!A$2:A$13,'Serverboard Config'!$B5) )","v":"(Select a Chassis) / (Select Serverboard)"}]
["Chassis/ Power Supply / Cooling:",{"$f":"INDEX(Chassis!A$3:A$13,'Intel Chassis'!$B3)","v":"(Select Chassis)"}]
["Serverboard:",{"$f":"INDEX(Serverboard!A$2:A$13,'Serverboard Config'!$B5)","v":"(Select Serverboard)"}]
["System Totals"," +12V (amps)","12VSB (amps)","Total System Watts "]
[{"$f":"CONCATENATE(\"Processors - Qty \",'Serverboard Config'!C4, \":\")","v":"Processors - Qty 1:"},{"$f":"SUM('Serverboard Config'!F3)","v":0},{"$f":"SUM('Serverboard Config'!G3)","v":0},{"$f":"SUM('Serverboard Config'!H3)","v":0}]
[{"$f":"CONCATENATE(\"Modules + PCI Cards - Qty \",('Serverboard Config'!B7>1) + ('Serverboard Config'!B8>1) + ('Serverboard Config'!B9>1) + ('Serverboard Config'!B10>1) +('Serverboard Config'!B11>1)+('Serverboard Config'!B12>1)+('Serverboard Config'!B13>1)+('Serverboard Config'!B15>1)+('Serverboard Config'!B16>1),\":\")","v":"Modules + PCI Cards - Qty 0:"},{"$f":"SUM('Serverboard Config'!F7:F16)","v":0},{"$f":"SUM('Serverboard Config'!G7:G16)","v":0},{"$f":"SUM('Serverboard Config'!H7:H16)","v":0}]
[{"$f":"CONCATENATE(\"Hard Drives - Qty \",'Intel Chassis'!C4+'Intel Chassis'!C5,\":\")","v":"Hard Drives - Qty 0:"},{"$f":"SUM('Intel Chassis'!G4:G5)","v":0},0,{"$f":"SUM('Intel Chassis'!I4:I5)","v":0}]
["Serverboard & Memory:",{"$f":"SUM('Serverboard Config'!F5:F6)","v":0},{"$f":"SUM('Serverboard Config'!G5:G6)","v":0},{"$f":"SUM('Serverboard Config'!H5:H6)","v":0}]
["Chassis & Peripherals:",{"$f":"_Sys12 - B7","v":0},{"$f":"'Intel Chassis'!H12","v":0},{"$f":"3.3*Sys3.3+5*_Sys5+ 12*_Sys12-D7","v":0}]
["System Totals:",{"$f":"SUM(B5:B9)","v":0},{"$f":"SUM(C5:C9)","v":0},{"$f":"SUM(D5:D9)","v":0}]
[{"$f":"TEXT(INDEX(Summary!H19:H22,Summary!B19),\"###\") & TEXT(INDEX(Summary!I19:I22,Summary!B19),\"###\") &\" PS DC Output Limits:\"","v":"220VAC PS DC Output Limits:"},{"$f":"INDEX(Chassis!B$3:B$13,'Intel Chassis'!$B3)","v":0},{"$f":"INDEX(Chassis!C$3:C$13,'Intel Chassis'!$B3)","v":0},{"$f":"INDEX(Chassis!D$3:D$13,'Intel Chassis'!$B3)","v":0},"<-- These limits may change based on inlet voltage"]
["CLST Allowance",{"$f":"'Serverboard Config'!F21","v":0},null,{"$f":"'Serverboard Config'!H21","v":0}]
["Total System Limits",{"$f":"B12+PS1_12","v":0},{"$f":"C12+PS1_5VSB","v":0},{"$f":"D12+ps1CombLim","v":0}]
["Margins to Limit:",{"$f":"B13-B10","v":0},{"$f":"C13-C10","v":0},{"$f":"D13-PowerTotal","v":0},{"$f":"IF((OR(B14<0,C14<0)),\"<-- Limits Exceeded!\",\"<--System Margins\")","v":"<--System Margins"}]
["Negative margins show configuration exceeds a specified limit.",null,null,{"$f":"(D11-D10)/D11","v":{"$error":"#DIV/0!"}},"<-- % margin to PS rating"]
[]
[]
["AC inlet power estimate (below)"]
["Input Voltage:",1," (Volts)",null,null,null,null,220,"VAC"]
["Estimated  Inlet Power:",{"$f":"IF(INDEX(Chassis!$H$3:$K$13,'Intel Chassis'!$B3,B19)=\"na\",\"na\",PowerTotal/ (INDEX(Chassis!$H$3:$K$13,'Intel Chassis'!$B3,B19)+0.001))","v":0}," (Watts)","Calculation is blank if voltage does not match PS type",null,null,null,115,"VAC"]
["Estimated Inlet Current:",{"$f":"IF(B20=\"na\",\"na\",B20/ABS(INDEX(H19:H22,B19)))","v":0}," (Amps)","Calculation is blank if voltage does not match PS type",null,null,null,-48,"VDC"]
["Estimated Thermal Dissipation:",{"$f":"IF(B20=\"na\",\"na\",B20*3.41)","v":0}," (BTU/Hr)","Calculation is blank if voltage does not match PS type",null,null,null,-60,"VDC"]
["Note: Estimates are most accurate at max loading."]
[]
[]
["If your desired configuration exceeds the power supply limits, two power supplies are required.  The two power supplies will operate in a current sharing mode "]
["to deliver the additional power needed for your configuration.  Furthermore, the two power supplies may need to be sourced from separate AC circuits in order to not"]
["exceed maximum AC outlet current.  Exceeding maximum AC outlet current may cause a circuit breaker to trip."]
[]
["For A3/A4 individual PS selection "]
["     1) For dual power supply configuration, power budget must fit within single power supply rated load and be installed in dual configuration, or"]
["     2) For single power supply configuration, power budget must be sized with 30% margin to single power supply rated load."]
[]
[{"$f":"CONCATENATE(\"Revision: \",Revision!B1)","v":"Revision: 2.4"},{"$f":"Revision!A1","v":"2013-08-27"}]

{"sheet":"Intel Chassis","index":4,"n_rows":19,"n_cols":11,"rows_kept":19,"cut":false,"hidden":false,"merged":[]}
["Power Budget",{"$f":"CONCATENATE(INDEX(Chassis!$L$3:$L$13,B3), \" System Configuration\")","v":"(Select a Chassis) System Configuration"},null,null,null,null,null,null,null,null,"HSBP VRM Efficiency"]
["System Feature","Description","Qty",null,"+3.3V (amps)","+5V (amps)"," +12V (amps)","12V \nstby (amps)","Power\n(watts)",null,{"$f":"INDEX(Chassis!$G$3:$G$13,B3)","v":1}]
["Chassis:",1,null,null,null,null,{"$f":"INDEX(Chassis!$E$3:$E$13,B3)+IF(INDEX(Chassis!$F$3:$F$13,B3)=\"Y\",(INDEX(Processors!C2:C33,'Serverboard Config'!B3)*'Serverboard Config'!C4),0)","v":0},null,{"$f":"G3*12+H3*12","v":0}," Includes System Fans "]
["1st Hard Drive Type: ",1,0,null,null,{"$f":"INDEX(HardDrive!$C$2:$C$16,B4) *C4 * 1","v":0},{"$f":"(INDEX(HardDrive!$D$2:$D$16,B4)*C4+((F4*5)/12)/$K$2) *1","v":0},null,0,{"$f":"IF(C4+C5>(INDEX(HardDrive!$F$19:$F$31*$C$6,'Intel Chassis'!$B$6)),\" <-- Max Supported HDD Count Exceeded!\",\" \")","v":" "}]
["2nd Hard Drive Type: ",1,0,null,null,{"$f":"INDEX(HardDrive!$C$2:$C$16,B5) *C5 *1","v":0},{"$f":"(INDEX(HardDrive!$D$2:$D$16,B5) *C5+((F5*5)/12)/$K$2) *1","v":0},null,0,{"$f":"IF(C4+C5>(INDEX(HardDrive!$F$19:$F$31*$C$6,'Intel Chassis'!$B$6)),\" <-- Max Supported HDD Count Exceeded!\",\" \")","v":" "}]
["Backplane: ",1,0,null,null,null,{"$f":"(INDEX(HardDrive!$D$19:$D$31,B6) *C6+((F6*5)/12)/$K$2) *1","v":0},null,0]
["Midplane Expander: ",1,1,null,null,null,{"$f":"(INDEX(Peripherals!$D$21:$D$27,B7) *C7) *1","v":0},null,0]
["USB: ","Number of Devices (100mA/device)",0,null,null,{"$f":"0.1*C8","v":0},{"$f":"((F8*5)/12)/_5vVRM","v":0},null,0]
["Display: ","Optional LCP",0,null,null,null,null,{"$f":"(0.171*3.3)/12/_stbyVRM*C9","v":0},0]
["Slim-line Bay: ",1,1,null,null,{"$f":"INDEX(Peripherals!C$3:C$9,$B10) *C10","v":0},{"$f":"(INDEX(Peripherals!$D$3:$D$9,B10)*C10+((F10*5)/12)/_5vVRM) *1","v":0},null,0]
["SSD Bay: ",1,0,null,{"$f":"INDEX(Peripherals!B$12:B$18,$B11)*C11","v":0},{"$f":"INDEX(Peripherals!C$12:C$18,$B11) *C11","v":0},{"$f":"(INDEX(Peripherals!$D$12:$D$18,B11)*C11+((E11*3.3)/12)/_3vVRM+((F11*5)/12)/_5vVRM) *1","v":0},null,0," *2U Chassis Only"]
[null,"SubTotals:",null,null,null,null,{"$f":"SUM(G3:G11)","v":0},{"$f":"SUM(H3:H11)","v":0},{"$f":"E12*3.3+F12*5+G12*12","v":0}]
[null,"SubTotal Chassis Power (Watts):",null,null,null,null,{"$f":"G12*12","v":0},{"$f":"H12*5","v":0},{"$f":"SUM(E13:G13)","v":0}]
[null,"Total System usage:",null,null,null,null,{"$f":"Summary!B10","v":0},{"$f":"Summary!C10","v":0},{"$f":"Summary!D10","v":0}]
[null,{"$f":"TEXT(INDEX(Summary!H19:H22,Summary!B19),\"###\") & TEXT(INDEX(Summary!I19:I22,Summary!B19),\"###\") &\" PS DC Output Limits:\"","v":"220VAC PS DC Output Limits:"},null,null,null,null,{"$f":"PS1_12","v":0},{"$f":"PS1_5VSB","v":0},{"$f":"ps1CombLim","v":0},"<-- These limits may change based on inlet voltage"]
[null,"CLST Allowance:",null,null,null,null,{"$f":"'Serverboard Config'!F21","v":0},null,{"$f":"'Serverboard Config'!H21","v":0}]
[null,"Total System Limits:",null,null,null,null,{"$f":"'Serverboard Config'!F22","v":0},{"$f":"H15","v":0},{"$f":"'Serverboard Config'!H22","v":0}]
[null,"Margins compared to Limits:",null,null,null,null,{"$f":"G17-G14","v":0},0,{"$f":"I17-I14","v":0},{"$f":"IF(OR(G18<0,H18<0,I18<0),\"<-- Limits Exceeded!\",\"<--System Margins\")","v":"<--System Margins"}]
[null,null,null,null,null,null,null,null,{"$f":"(I15-I14)/I15","v":{"$error":"#DIV/0!"}},"<-- % margin to PS rating"]

{"sheet":"Serverboard Config","index":5,"n_rows":31,"n_cols":17,"rows_kept":31,"cut":false,"hidden":false,"merged":[[0,1,0,7]]}
["Power Budget",{"$f":"CONCATENATE(INDEX(Serverboard!A$2:A$13,$B5),\" Configuration\")","v":"(Select Serverboard) Configuration"},null,null,null,null,null,null,null,"CPU VRM Efficiency","Mem VR Efficiency","3.3v VRM Efficiency","5v VRM Efficiency","3.3 Stby VR Efficiency"]
["Serverboard Feature","Description",null,"+3.3V (amps)","+5V (amps)"," +12V (amps)","12V \nstby (amps)","Power (watts)",null,{"$f":"INDEX(Serverboard!E$2:E$11,$B5)","v":1},{"$f":"INDEX(Serverboard!F$2:F$11,$B5)","v":0},{"$f":"INDEX(Serverboard!G$2:G$11,$B5)","v":1},{"$f":"INDEX(Serverboard!H$2:H$11,$B5)","v":1},{"$f":"INDEX(Serverboard!I$2:I$11,$B5)","v":1},"<--Hide these columns"]
["Processors:",1,null,null,null,{"$f":"C4*INDEX(Processors!B$2:B$33,$B3)/12/VRMefficiency*0.9","v":0},null,{"$f":"F3*12+E3*5","v":0}]
[null,"Quantity:",1]
["Serverboard:",1,null,null,null,{"$f":"INDEX(Serverboard!B$2:B$13,$B5) *1","v":0},{"$f":"INDEX(Serverboard!C$2:C$13,$B5) *1","v":0},{"$f":"INDEX(Serverboard!D$2:D$13,$B5) *1","v":0}]
["Memory:",1,1,null,null,{"$f":"IF(C6=1,0,((HLOOKUP(INDEX(Memory!A28:A38,$C6),Memory!B5:I18,B6+2,FALSE))/12/_MemVR*0.9))","v":0},null,{"$f":"D6*3.3+E6*5+F6*12+G6*12","v":0},{"$f":"IF(C6=1,\"\",IF(HLOOKUP(INDEX(Memory!A28:A38,$C6),Memory!B5:I18,B6+2,FALSE)=\"na\",\"<-- unsupported DIMM config\",\"\"))","v":""}]
["PCI Card #1:",1,null,{"$f":"INDEX(PCI!B$2:B$17,$B7)","v":0},{"$f":"INDEX(PCI!C$2:C$17,$B7)","v":0},{"$f":"INDEX(PCI!D$2:D$17,$B7)+((D7*3.3)/12)/$L$2+((E7*5)/12)/$M$2","v":0},{"$f":"((INDEX(PCI!$E$2:$E$17,$B7)*3.3)+(INDEX(PCI!$F$2:$F$17,$B7))*5)/12/_stbyVRM","v":0},{"$f":"F7*12+G7*12","v":0}]
["PCI Card #2:",1,null,{"$f":"INDEX(PCI!B$2:B$17,$B8)","v":0},{"$f":"INDEX(PCI!C$2:C$17,$B8)","v":0},{"$f":"INDEX(PCI!D$2:D$17,$B8)+((D8*3.3)/12)/$L$2+((E8*5)/12)/$M$2","v":0},{"$f":"((INDEX(PCI!$E$2:$E$17,$B8)*3.3)+(INDEX(PCI!$F$2:$F$17,$B8))*5)/12/_stbyVRM","v":0},0]
["PCI Card #3:",1,null,{"$f":"INDEX(PCI!B$2:B$17,$B9)","v":0},{"$f":"INDEX(PCI!C$2:C$17,$B9)","v":0},{"$f":"INDEX(PCI!D$2:D$17,$B9)+((D9*3.3)/12)/$L$2+((E9*5)/12)/$M$2","v":0},{"$f":"((INDEX(PCI!$E$2:$E$17,$B9)*3.3)+(INDEX(PCI!$F$2:$F$17,$B9))*5)/12/_stbyVRM","v":0},0]
["PCI Card #4:",1,null,{"$f":"INDEX(PCI!B$2:B$17,$B10)","v":0},{"$f":"INDEX(PCI!C$2:C$17,$B10)","v":0},{"$f":"INDEX(PCI!D$2:D$17,$B10)+((D10*3.3)/12)/$L$2+((E10*5)/12)/$M$2","v":0},{"$f":"((INDEX(PCI!$E$2:$E$17,$B10)*3.3)+(INDEX(PCI!$F$2:$F$17,$B10))*5)/12/_stbyVRM","v":0},0]
["PCI Card #5:",1,null,{"$f":"INDEX(PCI!B$2:B$17,$B11)","v":0},{"$f":"INDEX(PCI!C$2:C$17,$B11)","v":0},{"$f":"INDEX(PCI!D$2:D$17,$B11)+((D11*3.3)/12)/$L$2+((E11*5)/12)/$M$2","v":0},{"$f":"((INDEX(PCI!$E$2:$E$17,$B11)*3.3)+(INDEX(PCI!$F$2:$F$17,$B11))*5)/12/_stbyVRM","v":0},0]
["PCI Card #6:",1,null,{"$f":"INDEX(PCI!B$2:B$17,$B12)","v":0},{"$f":"INDEX(PCI!C$2:C$17,$B12)","v":0},{"$f":"INDEX(PCI!D$2:D$17,$B12)+((D12*3.3)/12)/$L$2+((E12*5)/12)/$M$2","v":0},{"$f":"((INDEX(PCI!$E$2:$E$17,$B12)*3.3)+(INDEX(PCI!$F$2:$F$17,$B12))*5)/12/_stbyVRM","v":0},0]
["RMM4:",1,null,{"$f":"INDEX(PCI!B$38:B$42,$B13)","v":0},{"$f":"INDEX(PCI!C$38:C$42,$B13)","v":0},{"$f":"INDEX(PCI!D$38:D$42,$B13)+((D13*3.3)/12)/$L$2+((E13*5)/12)/$M$2","v":0},{"$f":"((INDEX(PCI!E38:E42,$B13)*3.3)+(INDEX(PCI!F38:F42,$B13))*5)/12/_stbyVRM","v":0},0]
["eUSB:",1,null,{"$f":"INDEX(PCI!B$45:B$48,$B14)","v":0},{"$f":"INDEX(PCI!C$45:C$48,$B14)","v":0},{"$f":"INDEX(PCI!D$45:D$48,$B14)+((D14*3.3)/12)/$L$2+((E14*5)/12)/$M$2","v":0},{"$f":"((INDEX(PCI!E45:E48,$B14)*3.3)+(INDEX(PCI!F45:F48,$B14))*5)/12/_stbyVRM","v":0},0]
["SAS Mezzanine:",1,null,{"$f":"INDEX(PCI!B$20:B$24,$B15)","v":0},{"$f":"INDEX(PCI!C$20:C$24,$B15)","v":0},{"$f":"INDEX(PCI!D$20:D$24,$B15)+((D15*3.3)/12)/$L$2+((E15*5)/12)/$M$2","v":0},{"$f":"((INDEX(PCI!E20:E24,$B15)*3.3)+(INDEX(PCI!F20:F24,$B15))*5)/12/_stbyVRM","v":0},0]
["IO Module:",1,null,{"$f":"INDEX(PCI!B$27:B$35,$B16)","v":0},{"$f":"INDEX(PCI!C$27:C$35,$B16)","v":0},{"$f":"INDEX(PCI!D$27:D$35,$B16)+((D16*3.3)/12)/$L$2+((E16*5)/12)/$M$2","v":0},{"$f":"((INDEX(PCI!E27:E35,$B16)*3.3)+(INDEX(PCI!F27:F35,$B16))*5)/12/_stbyVRM","v":0},0]
[null,"SubTotals:",null,null,null,{"$f":"SUM(F3:F16)","v":0},{"$f":"SUM(G3:G16)","v":0},{"$f":"SUM(H3:H16)","v":0}]
[null,"SubTotal Serverboard Power (Watts):",null,null,null,{"$f":"(F17)*12","v":0},{"$f":"(G17)*5","v":0},{"$f":"SUM(D18:G18)","v":0}]
[null,"Total System usage:",null,null,null,{"$f":"Summary!B10","v":0},{"$f":"Summary!C10","v":0},{"$f":"Summary!D10","v":0}]
[null,{"$f":"TEXT(INDEX(Summary!H19:H22,Summary!B19),\"###\") & TEXT(INDEX(Summary!I19:I22,Summary!B19),\"###\") &\" PS DC Output Limits:\"","v":"220VAC PS DC Output Limits:"},null,null,null,{"$f":"PS1_12","v":0},{"$f":"PS1_5VSB","v":0},{"$f":"ps1CombLim","v":0},"<-- These limits may change based on inlet voltage"]
[null,"CLST Allowance:",null,null,null,{"$f":"F3*25%+F6*20%","v":0},null,{"$f":"H3*25%+H6*20%","v":0}]
[null,"Total System Limits:",null,null,null,{"$f":"F21+F20","v":0},{"$f":"G21+G20","v":0},{"$f":"H21+H20","v":0}]
[null,null,"Margin compared to Limits:",null,null,{"$f":"F22-F19","v":0},{"$f":"G22-G19","v":0},{"$f":"H22-H19","v":0},{"$f":"IF(OR(F23<0,G23<0,H23<0),\"<-- Limits Exceeded!\",\"<--System Margins\")","v":"<--System Margins"}]
[null,null,null,null,null,null,null,{"$f":"(H20-H19)/H20","v":{"$error":"#DIV/0!"}},"<-- % margin to PS rating"]
[]
[]
[null,null,null,null,null,null,null,null,null,null,null,null,null,null,null,null," "]
[]
[]
["CPU = 25% of TDP"]
["Memory = 10% Bandwidth"]

{"sheet":"Serverboard","index":6,"n_rows":11,"n_cols":10,"rows_kept":11,"cut":false,"hidden":false,"merged":[]}
["Serverboard",12,"12VSB","Watts","CPU VR\nEff%","Mem VR Eff%","5v VR\nEff%","3v VR\nEff%","Stby/Aux Eff%"]
["(Select Serverboard)",null,null,null,1,null,1,1,1]
["S2600GZ Serverboard",{"$f":"32/12","v":2.6666666666666665},{"$f":"0.414/12/0.9","v":3.833333333333333E-2},{"$f":"B3*12+C3*12","v":32.46},0.85,0.84,0.85,0.9,0.87,"Pwr Budget v6"]
["S2600GL Serverboard",{"$f":"32/12","v":2.6666666666666665},{"$f":"0.414/12/0.9","v":3.833333333333333E-2},{"$f":"B4*12+C4*12","v":32.46},0.85,0.84,0.85,0.9,0.87,"Pwr Budget v6"]
[null,null,null,0,0.8,0.8,0.8,0.8,0.8,"<-- Define Custom Numbers Here"]
[null,null,null,0,0.8,0.8,0.8,0.8,0.8,"<-- Define Custom Numbers Here"]
[null,null,null,0,0.8,0.8,0.8,0.8,0.8,"<-- Define Custom Numbers Here"]
[null,null,null,0,0.8,0.8,0.8,0.8,0.8,"<-- Define Custom Numbers Here"]
[null,null,null,0,0.8,0.8,0.8,0.8,0.8,"<-- Define Custom Numbers Here"]
[null,null,null,0,0.8,0.8,0.8,0.8,0.8,"<-- Define Custom Numbers Here"]
[null,null,null,0,0.8,0.8,0.8,0.8,0.8,"<-- Define Custom Numbers Here"]

{"sheet":"Chassis","index":7,"n_rows":18,"n_cols":21,"rows_kept":18,"cut":false,"hidden":false,"merged":[[0,1,0,2],[0,16,0,19],[0,12,0,15],[0,7,0,10]]}
["Chassis",null,null,"Total","Fans","HS Fan","HSBP ","PS Eff%",null,null,null,"Product Name","Total 12 DC Current (Amps)",null,null,null,"Total DC Ouput (Watts)"]
["Selection","12V","12VSB","Watts","12V","(Y/N)","VR Eff%","220VAC","115VAC","-48DCV","-60DCV",null,"220VAC","115VAC","-48DCV","-60DCV","220VAC","115VAC","-48DCV","-60DCV"]
["(Select Chassis)",null,null,null,null,null,1,1,1,1,1,"(Select a Chassis)"]
["R1XXX (1U 750W AC PSU)",{"$f":"INDEX(M4:P4,Summary!$B$19)","v":62},2.1,{"$f":"INDEX(Q4:T4,Summary!$B$19)","v":750},{"$f":"6*1.3","v":7.8000000000000007},"N",0.9,0.94,0.92,"na","na","R1XXX",62,62,62,62,750,750,750,750,"PS Eff% from measured curves"]
["R1XXX (1U 460W AC PSU)",{"$f":"INDEX(M5:P5,Summary!$B$19)","v":38},2.1,{"$f":"INDEX(Q5:T5,Summary!$B$19)","v":460},{"$f":"6*1.3","v":7.8000000000000007},"N",0.9,0.92,0.89,"na","na","R1XXX",38,38,38,38,460,460,460,460,"PS Eff% from measured curves"]
["R2XXX (2U 750W AC PSU)",{"$f":"INDEX(M6:P6,Summary!$B$19)","v":62},2.1,{"$f":"INDEX(Q6:T6,Summary!$B$19)","v":750},{"$f":"5*1.6","v":8},"N",0.9,0.94,0.92,"na","na","R2XXX",62,62,62,62,750,750,750,750,"PS Eff% from measured curves"]
["R2XXX (2U 460W ACPSU)",{"$f":"INDEX(M7:P7,Summary!$B$19)","v":38},2.1,{"$f":"INDEX(Q7:T7,Summary!$B$19)","v":460},{"$f":"5*1.6","v":8},"N",0.9,0.92,0.89,"na","na","R2XXX",38,38,38,38,460,460,460,460,"PS Eff% from measured curves"]
["R2XXX (2U 750W DC PSU)",{"$f":"INDEX(M8:P8,Summary!$B$19)","v":62},2.1,{"$f":"INDEX(Q8:T8,Summary!$B$19)","v":750},{"$f":"5*1.6","v":8},"N",0.9,"na","na",0.9,0.9,"R2XXX",62,62,62,62,750,750,750,750,"PS Eff% from measured curves"]
["User Definable",{"$f":"INDEX(M9:P9,Summary!$B$19)","v":0},null,{"$f":"INDEX(Q9:T9,Summary!$B$19)","v":0},null,"N",0.8,0.8,0.8,0.8,0.8,null,null,null,null,null,null,null,null,null,"<-- Define Custom Numbers Here"]
["User Definable",{"$f":"INDEX(M10:P10,Summary!$B$19)","v":0},null,{"$f":"INDEX(Q10:T10,Summary!$B$19)","v":0},null,"N",0.8,0.8,0.8,0.8,0.8,null,null,null,null,null,null,null,null,null,"<-- Define Custom Numbers Here"]
["User Definable",{"$f":"INDEX(M11:P11,Summary!$B$19)","v":0},null,{"$f":"INDEX(Q11:T11,Summary!$B$19)","v":0},null,"N",0.8,0.8,0.8,0.8,0.8,null,null,null,null,null,null,null,null,null,"<-- Define Custom Numbers Here"]
["User Definable",{"$f":"INDEX(M12:P12,Summary!$B$19)","v":0},null,{"$f":"INDEX(Q12:T12,Summary!$B$19)","v":0},null,"N",0.8,0.8,0.8,0.8,0.8,null,null,null,null,null,null,null,null,null,"<-- Define Custom Numbers Here"]
["User Definable",{"$f":"INDEX(M13:P13,Summary!$B$19)","v":0},null,{"$f":"INDEX(Q13:T13,Summary!$B$19)","v":0},null,"N",0.8,0.8,0.8,0.8,0.8,null,null,null,null,null,null,null,null,null,"<-- Define Custom Numbers Here"]
[]
[]
[]
["Note: HS Fan  (Y/N) determines if an Active Heatsink (Heatsink with Fan) in Intel® Boxed Processors is used (adds fan power to budget)"]
["Note: PS Eff is estimate @ typ voltage & 35% to 90% loading based on PS measurement data."]

{"sheet":"Processors","index":8,"n_rows":43,"n_cols":7,"rows_kept":43,"cut":false,"hidden":false,"merged":[]}
["Processor Types","TDP (W)","HS Fan (A)","Source",null,"VRM#1","VRM#2"]
["(Select Processor)",null,null,null,null,"5V VRM","12V VRM"]
["Intel Xeon® E5-2690 v2 (130W)",130,null,"EDS rev1.5 - Intel Doc #511819"]
["Intel Xeon® E5-2680 v2 (115W)",115,null,"EDS rev1.5 - Intel Doc #511819"]
["Intel Xeon® E5-2670 v2 (115W)",115,null,"EDS rev1.5 - Intel Doc #511819"]
["Intel Xeon® E5-2667 v2 (130W)",130,null,"EDS rev1.5 - Intel Doc #511819"]
["Intel Xeon® E5-2660 v2 (95W)",95,null,"EDS rev1.5 - Intel Doc #511819"]
["Intel Xeon® E5-2650 v2 (95W)",95,null,"EDS rev1.5 - Intel Doc #511819"]
["Intel Xeon® E5-2640 v2 (95W)",95,null,"EDS rev1.5 - Intel Doc #511819"]
["Intel Xeon® E5-2630 v2 (80W)",80,null,"EDS rev1.5 - Intel Doc #511819"]
["Intel Xeon® E5-2620 v2 (80W)",80,null,"EDS rev1.5 - Intel Doc #511819"]
["Intel Xeon® E5-2609 v2 (80W)",80,null,"EDS rev1.5 - Intel Doc #511819"]
["Intel Xeon® E5-2603 v2 (80W)",80,null,"EDS rev1.5 - Intel Doc #511819"]
["Intel Xeon® E5-2650L v2 (70W)",70,null,"EDS rev1.5 - Intel Doc #511819"]
["Intel Xeon® E5-2630L v2 (60W)",60,null,"EDS rev1.5 - Intel Doc #511819"]
["Intel Xeon® E5-2690 (135W)",135,null,"EDS rev1.8 - Intel Doc #442505",null,"12V VRM","None"]
["Intel Xeon® E5-2680 (130W)",130,null,"EDS rev1.8 - Intel Doc #442505",null,"12V VRM","None"]
["Intel Xeon® E5-2670 (115W)",115,null,"EDS rev1.8 - Intel Doc #442505",null,"None"]
["Intel Xeon® E5-2665 (115W)",115,null,"EDS rev1.8 - Intel Doc #442505"]
["Intel Xeon® E5-2660 (95W)",95,null,"EDS rev1.8 - Intel Doc #442505"]
["Intel Xeon® E5-2650 (95W)",95,null,"EDS rev1.8 - Intel Doc #442505"]
["Intel Xeon® E5-2640 (95W)",95,null,"EDS rev1.8 - Intel Doc #442505"]
["Intel Xeon® E5-2630 (95W)",95,null,"EDS rev1.8 - Intel Doc #442505"]
["Intel Xeon® E5-2620 (95W)",95,null,"EDS rev1.8 - Intel Doc #442505"]
["Intel Xeon® E5-2609 (80W)",80,null,"EDS rev1.8 - Intel Doc #442505"]
["Intel Xeon® E5-2603 (80W)",80,null,"EDS rev1.8 - Intel Doc #442505"]
["Intel Xeon® E5-2650L (70W)",70,null,"EDS rev1.8 - Intel Doc #442505"]
["Intel Xeon® E5-2630L (60W)",60,null,"EDS rev1.8 - Intel Doc #442505"]
[" ",null,null,null,"<-- Define Custom Numbers Here"]
[" ",null,null,null,"<-- Define Custom Numbers Here"]
[" ",null,null,null,"<-- Define Custom Numbers Here"]
[null,null,null,null,"<-- Define Custom Numbers Here"]
[null,null,null,null,"<-- Define Custom Numbers Here"]
[null,null,null,null,"<-- Define Custom Numbers Here"]
[]
[]
["Processor Quantities (used for tool operation)"]
[1,1]
[2,2]
[3,3]
[4,4]
[]
["Note: HS Fan = Fan 12v current for Active Heatsink which ships with Intel® Boxed Processors"]

{"sheet":"Memory","index":9,"n_rows":38,"n_cols":10,"rows_kept":38,"cut":false,"hidden":false,"merged":[[3,1,3,8],[0,1,0,8]]}
[null,"Watts of +12V"]
[]
[null,"1DPC","1DPC","1DPC","1DPC","1&2DPC","2DPC","2&3DPC","3DPC"]
[null,"# of DIMMS"]
["Memory",1,2,4,8,12,16,20,24]
[]
["(Select Memory)"]
["8GB DDR3 RDIMM (4Gb, DRx8)",{"$f":"5.2*B$5","v":5.2},{"$f":"5.2*C$5","v":10.4},20.8,41.6,{"$f":"5.2*4 +5.2*8","v":62.400000000000006},{"$f":"5.2*16","v":83.2},{"$f":"5.2*16+3.9*4","v":98.8},{"$f":"3.9*24","v":93.6}]
["16GB DDR3 RDIMM (4Gb, DRx4)",{"$f":"8.3*B$5","v":8.3000000000000007},{"$f":"8.3*C$5","v":16.600000000000001},33.200000000000003,66.400000000000006,{"$f":"8.3*4 +7.4*8","v":92.4},{"$f":"7.4*16","v":118.4},{"$f":"7.4*16+5*4","v":138.4},{"$f":"5*24","v":120}]
["32GB DDR3 LR-DIMM (4Gb, QRx4)",{"$f":"14.9*B$5","v":14.9},{"$f":"14.9*C$5","v":29.8},59.6,119.2,{"$f":"14.9*4 +11.8*8","v":154},{"$f":"11.8*16","v":188.8},{"$f":"11.8*16+8.2*4","v":221.60000000000002},{"$f":"8.2*24","v":196.79999999999998}]
["32GB DDR3 DIMM (4Gb, QRx4)",{"$f":"11.2*B$5","v":11.2},{"$f":"11.2*C$5","v":22.4},44.8,89.6,{"$f":"11.2*4 +9.6*8","v":121.6},{"$f":"9.6*16","v":153.6},"na","na","*3DPC only supported by LR-DIMMs"]
["16GB DDR3 DIMM (4Gb, QRx8)",{"$f":"5.7*B$5","v":5.7},{"$f":"5.7*C$5","v":11.4},22.8,45.6,{"$f":"5.7*4 +5.7*8","v":68.400000000000006},{"$f":"5.7*16","v":91.2},"na","na","*3DPC only supported by LR-DIMMs"]
["User Definable",null,null,null,null,null,null,null,null,"<-- Define Custom Numbers Here"]
["User Definable",null,null,null,null,null,null,null,null,"<-- Define Custom Numbers Here"]
["User Definable",null,null,null,null,null,null,null,null,"<-- Define Custom Numbers Here"]
["User Definable",null,null,null,null,null,null,null,null,"<-- Define Custom Numbers Here"]
["User Definable",null,null,null,null,null,null,null,null,"<-- Define Custom Numbers Here"]
["User Definable",null,null,null,null,null,null,null,null,"<-- Define Custom Numbers Here"]
[]
[]
[]
["Note:"]
["DIMM power will vary depending on the # of DIMMs & the actual stress/bandwidth used."]
["DIMMs are assumed to be evenly distributed across available channels on a 4 channel motherboard."]
["Numbers assume fan control set to performance mode"]
[]
[]
[0]
[1]
[2]
[4]
[8]
[12]
[16]
[20]
[24]
[28]
[32]

{"sheet":"PCI","index":10,"n_rows":48,"n_cols":8,"rows_kept":48,"cut":false,"hidden":false,"merged":[]}
["PCI Add in Cards","Amps of +3.3V","Amps of +5V","Amps of +12V","Amps of    3.3V Stby","Amps of    5V Stby","Watts"]
["Slot Empty",null,null,null,null,null," "]
["PCI-X (5V) Typical",null,2,null,null,null,{"$f":"B3*3.3+C3*5+D3*12+E3*3.3+F3*5","v":10}]
["PCIe (3V) Typical",3,null,null,null,null,9.8999999999999986]
["PCIe (3.3V / 12V) Typical",2,null,0.25,null,null,9.6]
["PCIe (3.3V / 12V) High",2,null,0.7,null,null,14.999999999999998]
["RMS25PB080 (PCIe ROC)",0.86,null,0.55000000000000004,0.2,null,{"$f":"B7*3.3+C7*5+D7*12+E7*3.3","v":10.098000000000001}]
["RES2SV240 (24-port Expander)",null,null,0.97,null,null,{"$f":"B8*3.3+C8*5+D8*12+E8*3.3","v":11.64}]
["User Definable ",null,null,null,null,null,{"$f":"B9*3.3+C9*5+D9*12+E9*3.3+F9*5","v":0},"<-- Define Custom Card Here"]
["User Definable ",null,null,null,null,null,0,"<-- Define Custom Card Here"]
["User Definable ",null,null,null,null,null,0,"<-- Define Custom Card Here"]
["User Definable ",null,null,null,null,null,0,"<-- Define Custom Card Here"]
["User Definable ",null,null,null,null,null,0,"<-- Define Custom Card Here"]
["User Definable ",null,null,null,null,null,0,"<-- Define Custom Card Here"]
["User Definable ",null,null,null,null,null,0,"<-- Define Custom Card Here"]
["User Definable ",null,null,null,null,null,0,"<-- Define Custom Card Here"]
["User Definable ",null,null,null,null,null,0,"<-- Define Custom Card Here"]
[]
["SAS ROC/IOC"]
["Slot Empty",null,null,null,null,null," "]
["RMS25CB080 (Mezz ROC)",0.86,null,0.55000000000000004,0.2,null,{"$f":"B21*3.3+C21*5+D21*12+E21*3.3+F21*5","v":10.098000000000001}]
["RMT3CB080 (Imezz OM)",0.86,null,0.55000000000000004,0.2,null,{"$f":"B22*3.3+C22*5+D22*12+E22*3.3+F22*5","v":10.098000000000001}]
["User Definable ",null,null,null,null,null,0,"<-- Define Custom Card Here"]
["User Definable ",null,null,null,null,null,0,"<-- Define Custom Card Here"]
[]
["IO Module"]
["Slot Empty",null,null,null,null,null," "]
["AXX10GBNIAIOM",1.4570000000000001,null,0.56999999999999995,2E-3,null,{"$f":"B28*3.3+C28*5+D28*12+E28*3.3+F28*5","v":11.6547}]
["AXX10GBTWLIOM",null,null,1.21,1.9E-2,0.03,14.732699999999999]
["AXX4P1GBPWLIOM",null,null,0.27,0.35,null,4.3949999999999996]
["AXX1FDRIBIOM",0.77,null,0.46,2E-3,null,8.0676000000000005]
["AXX2FDRIBIOM",1.23,null,0.46,2E-3,null,{"$f":"B32*3.3+C32*5+D32*12+E32*3.3+F32*5","v":9.5856000000000012}]
["AXXQAAIOMOD",0.43,null,1.25,2E-3,null,16.425599999999999]
["User Definable ",null,null,null,null,null,0,"<-- Define Custom Card Here"]
["User Definable ",null,null,null,null,null,0,"<-- Define Custom Card Here"]
[]
["RMM4"]
["Slot Empty",null,null,null,null,null," "]
["AXXRMM4R",null,null,null,{"$f":"0.498+0.066","v":0.56400000000000006},null,{"$f":"B39*3.3+C39*5+D39*12+E39*3.3+F39*5","v":1.8612000000000002}]
["AXXRMM4LITE",null,null,null,6.6000000000000003E-2,null,0.21779999999999999]
["User Definable ",null,null,null,null,null,0,"<-- Define Custom Card Here"]
["User Definable ",null,null,null,null,null,0,"<-- Define Custom Card Here"]
[]
["eUSB"]
["Slot Empty",null,null,null,null,null," "]
["Generic eUSB",null,null,null,0.08,null,{"$f":"B46*3.3+C46*5+D46*12+E46*3.3+F46*5","v":0.26400000000000001}]
["User Definable ",null,null,null,null,null,0,"<-- Define Custom Card Here"]
["User Definable ",null,null,null,null,null,0,"<-- Define Custom Card Here"]

{"sheet":"HardDrive","index":11,"n_rows":31,"n_cols":7,"rows_kept":31,"cut":false,"hidden":false,"merged":[]}
["Hard Drives","Amps of +3.3V","Amps of +5V","Amps of +12V","Watts"]
["Empty"]
["3.5\" SATA Typical Power (12W)",null,0.5,0.8,{"$f":"B3*3.3+C3*5+D3*12","v":12.100000000000001}]
["3.5\" SAS Typical Power (15W)",null,0.8,0.92,{"$f":"B4*3.3+C4*5+D4*12","v":15.040000000000001}]
["2.5\" SATA Typical Power (5W)",null,1,0,5]
["2.5\" SAS Typical Power (9W)",null,0.81,0.41,8.9700000000000006]
["3.5\" Seagate ST33000650SS Constellation ES.2",null,0.74,0.49,9.58,null,"<-- Define Custom Device Here"]
["3.5\" SAS Seagate ST3600057SS Cheetah 15K.7",null,0.45,1.17,16.29,null,"<-- Define Custom Device Here"]
["2.5\" SAS Seagate ST91000640SS Constellation.2",null,1,0.17,7.04,null,"<-- Define Custom Device Here"]
["2.5\" SAS Seagate ST9146852SS Savvio 15K.2",null,0.43,0.4,6.9500000000000011,null,"<-- Define Custom Device Here"]
["2.5\" SAS Intel X25-M 64GB SSDSA2SE064G1",null,0.52,null,2.6,null,"<-- Define Custom Device Here"]
["Micron P300 200MB MTFDDAC200SAL-1N1",null,0.7,null,3.5,null,"<-- Define Custom Device Here"]
["User Definable",null,null,null,0,null,"<-- Define Custom Device Here"]
["User Definable",null,null,null,0,null,"<-- Define Custom Device Here"]
["User Definable",null,null,null,0,null,"<-- Define Custom Device Here"]
["User Definable",null,null,null,0,null,"<-- Define Custom Device Here"]
[]
["HSBP","Amps of +3.3V","Amps of +5V","Amps of +12V","Watts","# of HDD"]
["Empty"]
["1U 4x3.5\" HSBP",null,null,8.6999999999999994E-2,{"$f":"B20*3.3+C20*5+D20*12","v":1.044},4]
["1U 8x2.5\" HSBP RPT",null,null,{"$f":"0.117+0.061","v":0.17799999999999999},2.1360000000000001,8]
["2U 8x3.5\" HSBP RPT",null,null,{"$f":"0.117+0.061","v":0.17799999999999999},2.1360000000000001,8]
["2U 8x2.5\" HSBP",null,null,0.11700000000000001,1.4040000000000001,8]
["2U 8x2.5\" HSBP Dual channel",null,null,0.122,1.464,8]
["2U 12x3.5\" HSBP RPT",null,null,{"$f":"0.19+0.092","v":0.28200000000000003},3.3840000000000003,12]
["User Definable",null,null,null,0,null,"<-- Define Custom Device Here"]
["User Definable",null,null,null,0,null,"<-- Define Custom Device Here"]
["User Definable",null,null,null,0,null,"<-- Define Custom Device Here"]
["User Definable",null,null,null,0,null,"<-- Define Custom Device Here"]
["User Definable",null,null,null,0,null,"<-- Define Custom Device Here"]
["User Definable",null,null,null,0,null,"<-- Define Custom Device Here"]

{"sheet":"Peripherals","index":12,"n_rows":27,"n_cols":7,"rows_kept":27,"cut":false,"hidden":false,"merged":[]}
["Misc Peripherals","Amps of +3.3V","Amps of +5V","Amps of +12V","Amps of 3VSB","Watts"]
["Slim-Line Devices"]
["Empty"]
["AXXSATADVDROM",null,0.7,null,null,{"$f":"B4*3.3+C4*5+D4*12++E4*3.3","v":3.5}]
["AXXSATADVDRWROM",null,0.8,null,null,{"$f":"B5*3.3+C5*5+D5*12++E5*3.3","v":4}]
["User Definable",null,null,null,null,0,"<-- Define Custom Peripherals Here"]
["User Definable",null,null,null,null,0,"<-- Define Custom Peripherals Here"]
["User Definable",null,null,null,null,0,"<-- Define Custom Peripherals Here"]
["User Definable",null,null,null,null,0,"<-- Define Custom Peripherals Here"]
[]
["SSD Drives"]
["Empty"]
["Intel 320 600GB SSDSA2CW600G3xx",null,0.15,null,null,{"$f":"B13*3.3+C13*5+D13*12++E13*3.3","v":0.75}]
["Intel X25-M 64GB SSDSA2SE064G1",null,{"$f":"2.6/5","v":0.52},null,null,2.6]
["Micron P300 200MB MTFDDAC200SAL-1N1",null,{"$f":"3.5/5","v":0.7},null,null,3.5,"<-- Define Custom Peripherals Here"]
["User Definable",null,null,null,null,0,"<-- Define Custom Peripherals Here"]
["User Definable",null,null,null,null,0,"<-- Define Custom Peripherals Here"]
["User Definable",null,null,null,null,0,"<-- Define Custom Peripherals Here"]
[]
["Midplane SAS Expanders"]
["Empty"]
["RES2CV360 (36 port)",null,null,1.02,null,{"$f":"B22*3.3+C22*5+D22*12++E22*3.3","v":12.24}]
["RES2CV240 (24 port)",null,null,0.97,null,11.64]
["User Definable",null,null,null,null,0,"<-- Define Custom Peripherals Here"]
["User Definable",null,null,null,null,0,"<-- Define Custom Peripherals Here"]
["User Definable",null,null,null,null,0,"<-- Define Custom Peripherals Here"]
["User Definable",null,null,null,null,0,"<-- Define Custom Peripherals Here"]

{"sheet":"Revision","index":13,"n_rows":10,"n_cols":4,"rows_kept":10,"cut":false,"hidden":false,"merged":[]}
[{"$f":"MAX(A4:A27)","v":"2013-08-27"},{"$f":"MAX(B4:B27)","v":2.4},null,"<=== Linked to Summary Tab."]
[]
["Date","Rev","Notes","Init"]
["2011-12-22",0.5,"Initial Draft for review","dls"]
["2011-12-23",1,"Initial Release","dls"]
["2012-03-27",2,"Added Thermal Configuraiton data","dls"]
["2012-04-11",2.1,"Changes some labeleing and formatting","dls"]
["2012-09-10",2.2000000000000002,"Updated Config Tab & adjusted CLST value","dls"]
["2012-11-12",2.2999999999999998,"Corrected formatting errors and typos","dls"]
["2013-08-27",2.4,"Added IVB CPU support","mj"]