{"text_format":"1","workbook":"xlsx","n_sheets":15,"sheets":["Disclaimer","Instructions","Normal Config","Fan Fail Config","Summary","Intel Chassis","Serverboard Config","Serverboard","Chassis","Processors","Memory","PCI","HardDrive","Peripherals","Revision"],"not_rendered":{"charts":0,"images":0,"macros":1,"external_links":0,"defined_names":118,"comments":2,"pivot_tables":0},"unopened":[],"bounds":{"document_bytes":16777216,"sheet_cells":100000,"rows_first":2000,"rows_last":500,"rows_between":2000,"halvings":0,"cell_chars":16384,"cell_head_chars":4096},"cells_cut":0,"cells_raw":0,"read":"whole","date_system":"1900"}

{"sheet":"Disclaimer","index":0,"n_rows":0,"n_cols":0,"rows_kept":0,"cut":false,"hidden":false,"merged":[]}

{"sheet":"Instructions","index":1,"n_rows":1,"n_cols":1,"rows_kept":1,"cut":false,"hidden":false,"merged":[]}
["          Power Budget Instructions"]

{"sheet":"Normal Config","index":2,"n_rows":61,"n_cols":30,"rows_kept":61,"cut":false,"hidden":false,"merged":[[44,0,45,0],[46,0,50,0],[51,0,55,0],[56,0,60,0],[3,0,4,0],[5,0,7,0],[8,0,19,0],[20,0,22,0],[23,0,28,0],[29,0,30,0],[31,0,38,0],[39,0,41,0],[42,0,43,0],[1,2,1,5],[1,0,2,1],[1,26,1,29],[2,2,2,29],[1,6,1,9],[1,10,1,13],[1,14,1,17],[1,18,1,21],[1,22,1,25]]}
["Normal Mode Thermal Config Matrix",null,null,null,null,null,null,null,null,null,null,null,null,{"$f":"Summary!D15","v":0.91272727272727272},"<-- Margin to PS rating"]
["Notes:\n1.  The 27°C configuration alone is limited to elevations of 900m or less. Altitudes higher than 900m need to be de-rated to ASHRAE Class 2 levels.\n2.  To support system fan redundancy, the system must be configured with two power supplies to maintain sufficient cooling. Concurrent system and power supply fan failures is not supported.\n3.  Processor throttling may occur which may impact system performance. CPU reliability is not impacted.\n4. In fan fail mode, Intel® I/O Modules AXX10GBTWLIOM and AXX2FDRIBIOM are only supported in the specified base system model configured with 120W processors and DRx4 memory.  \n5. Use of the designated PCIe* slot is limited to add-in cards that have air flow requirements of 100 LFM or less. See add-in card specs for air flow requirements.\n6. For ASHRAE Class 3 and Class 4 support, the following power supply margining is required to meet thermal specifications:\na) For dual power supply configurations, the power budget must fit within  a single power supply rated load and be installed in a dual configuration, or\nb) For single power supply configurations, the power budget must be sized with 30% margin to single power supply rated load.\n7. Intel® Xeon Phi™ or non-Intel GPGPU cards may have performance impact during ASHRAE Class 3 and Class 4 ambient air excursions.\n8. PCIe* SSD AIC FF devices can only be supported in the bottom add-in card slot on Riser Slot #1 and Riser Slot #2. \n9. The Intel® RAID Maintenance Free Backup Unit (AXXRMFBUx) can support a case temperature of up to 45°C with the system operating in normal mode and up to 55°C with the system operating in a fan fail mode. The case temperature of Intel® Smart RAID Battery (AXXRSBBUx) can support up to 45°C in both normal and fan fail mode.  Excursions over these specs may result in a reliability impact.  \n10. The system must be configured with Intel® accessory kits AWTCOPRODUCT and A2UL16RISER2 in order to support Intel® Xeon Phi™ or Non-Intel GPGPU add-in cards with passive cooling solutions.",null,"Base System SKUs:\nR1304WT/R1208WT",null,null,null,"Base System SKUs:    R2312WT",null,null,null,"Base System SKUs:      R2224WT",null,null,null,"Base System SKUs:    \nR2308WT R2216WT",null,null,null," Base System SKUs:                 R2208WT",null,null,null,"Base System SKUs:    \nR2308WT R2216WT \nwith AWTCOPRODUCT  ",null,null,null," Base System SKUs:                 R2208WT with duct\nAWTCOPRODUCT"]
[null,null," \"●\"= Full Support without limitation;  \"4,5\"(Cell with number)=Conditional support with limitation;\n\" \"(Blank)=Not support; "]
["ASHRAE (See note 1)","Classifications","27C","A2","A3","A4","27C","A2","A3","A4","27C","A2","A3","A4","27C","A2","A3","A4","27C","A2","A3","A4","27C","A2","A3","A4","27C","A2","A3","A4"]
[null,"Max Ambient","27°C(1)","35°C","40°C","45°C","27°C(1)","35°C","40°C","45°C","27°C(1)","35°C","40°C","45°C","27°C(1)","35°C","40°C","45°C","27°C(1)","35°C","40°C","45°C","27°C(1)","35°C","40°C","45°C","27°C(1)","35°C","40°C","45°C"]
["PS (See note 6)","1100W AC","●","●","●","●","●","●","●","●","●","●","●","●","●","●","●","●","●","●","●","●","●","●","●","●","●","●","●","●"]
[null,"750W AC","●","●","●","●","●","●","●","●","●","●","●","●","●","●","●","●","●","●","●","●","●","●","●","●","●","●","●","●"]
[null,"750W DC","●","●","●","●","●","●","●","●","●","●","●","●","●","●","●","●","●","●","●","●","●","●","●","●","●","●","●","●"]
["EP Processors\n( See Notes 3)","EP, 135w, 12C  (Intel® Xeon® processor E5-2690 V3)","●","●","●","●","●","●","●",3,"●","●","●",3,"●","●","●","●","●","●","●","●","●","●",3,3,"●","●","●","●"]
[null,"EP, 120w, 12C  (Intel® Xeon® processor E5-2680 V3, E5-2670 V3)","●","●","●","●","●","●","●",3,"●","●","●",3,"●","●","●","●","●","●","●","●","●","●",3,3,"●","●","●","●"]
[null,"EP, 105w, 10C  (Intel® Xeon® processor E5-2660 V3, E5-2650 V3)","●","●","●","●","●","●","●",3,"●","●","●",3,"●","●","●","●","●","●","●","●","●","●",3,3,"●","●","●","●"]
[null,"EP, 90w, 8C (Intel® Xeon® processor E5-2640 V3)","●","●","●","●","●","●","●",3,"●","●","●",3,"●","●","●","●","●","●","●","●","●","●",3,3,"●","●","●","●"]
[null,"EP, 85w,8C,6C (Intel® Xeon® processor E5-2630 V3, E5-2620 V3, E5-2609 V3, E5-2603 V3)","●","●","●","●","●","●","●",3,"●","●","●",3,"●","●","●","●","●","●","●","●","●","●",3,3,"●","●","●","●"]
[null,"EP, 135w, 8C,6C,4C (Intel® Xeon® processor E5-2667 V3, E5-2643 V3, E5-2637 V3)","●","●",3,3,"●",3,null,null,"●",3,null,null,"●","●","●",3,"●","●","●","●","●",3,null,null,"●","●","●",3]
[null,"EP, 105w, 4C (Intel® Xeon® processor E5-2623 V3)","●","●","●","●","●","●",3,3,"●","●","●",3,"●","●","●","●","●","●","●","●","●","●",3,3,"●","●","●","●"]
[null,"EP, 65w, 12C  (Intel® Xeon® processor E5-2650L V3)","●","●","●",3,"●","●",3,null,"●","●",3,null,"●","●","●","●","●","●","●","●","●","●",3,null,"●","●","●",3]
[null,"EP, 55w, 8C  (Intel® Xeon® processor E5-2630L V3)","●","●","●",3,"●","●",null,null,"●","●",null,null,"●","●","●","●","●","●","●","●","●","●",3,null,"●","●","●",3]
[null,"EP, 145w, 14C,18C  (Intel® Xeon® processor E5-2697 V3, E5-2699 V3)","●","●",3,3,"●",3,null,null,"●",3,null,null,"●","●",3,3,"●","●","●",3,"●",3,null,null,"●","●",3,3]
[null,"EP, 135w, 16C  (Intel® Xeon® processor E5-2698 V3)","●","●","●","●","●","●","●",3,"●","●","●",3,"●","●","●","●","●","●","●","●","●","●",3,3,"●","●","●","●"]
[null,"EP, 120w, 14C (Intel® Xeon® processor E5-2695 V3, E5-2683 V3)","●","●","●","●","●","●","●",3,"●","●","●",3,"●","●","●","●","●","●","●","●","●","●",3,3,"●","●","●","●"]
["Memory Type\n","RDIMM-2Rx8,1Rx4, 1Rx8","●","●","●","●","●","●","●","●","●","●","●","●","●","●","●","●","●","●","●","●","●","●","●","●","●","●","●","●"]
[null,"RDIMM-DRx4","●","●","●","●","●","●","●","●","●","●","●","●","●","●","●","●","●","●","●","●","●","●","●","●","●","●","●","●"]
[null,"LRDIMM-QRx4 DDP","●","●","●","●","●","●","●","●","●","●","●","●","●","●","●","●","●","●","●","●","●","●","●","●","●","●","●","●"]
["Add-in Cards     (See note 5)","Riser #1 - Bottom Slot (1U riser and 2U riser)","●","●","●","●","●","●","●",5,"●","●","●",5,"●","●","●","●","●","●","●","●","●","●","●","●","●","●","●","●"]
[null,"Riser #1 - Middle Slot (2U riser)",null,null,null,null,"●","●",5,null,"●","●",5,5,"●","●","●",5,"●","●","●",5]
[null,"Riser #1 - Top Slot (2U riser)",null,null,null,null,"●","●",5,null,"●","●",5,5,"●","●","●",5,"●","●","●",5]
[null,"Riser #2 - Bottom Slot (1U riser and 2U riser)","●","●","●","●","●","●","●",5,"●","●","●",5,"●","●","●","●","●","●","●","●","●","●","●","●","●","●","●","●"]
[null,"Riser #2 - Middle Slot (2U riser)",null,null,null,null,"●","●","●",5,"●","●","●",5,"●","●","●",5,"●","●","●",5]
[null,"Riser #2 - Top Slot (2U riser)",null,null,null,null,"●","●","●",5,"●","●","●",5,"●","●","●",5,"●","●","●",5]
["3rd PCI Riser","Riser #3 - Bottom Slot","","","","","●","●",5,null,"●","●",5,null,"●","●","●",5,"●","●","●",5,"●","●","●",5,"●","●","●",5]
[null,"Riser #3 - Top Slot","","","","","●","●",5,null,"●","●",5,null,"●","●","●",5,"●","●","●",5,"●","●","●",5,"●","●","●",5]
["SAS and I/O Modules (See Note 4)","Intel® Integrated RAID Modules (Mezzanine cards)","●","●","●","●","●","●","●",null,"●","●","●",null,"●","●","●","●","●","●","●","●","●","●","●","●","●","●","●","●"]
[null,"AXX10GBTWLIOM - Dual 10GBASE-T IO Module ","●","●","●","●","●","●","●","●","●","●","●","●","●","●","●","●","●","●","●","●","●","●","●","●","●","●","●","●"]
[null,"AXX10GBNIAIOM - Dual SFP+ port 10GbE IO Module","●","●","●","●","●","●","●","●","●","●","●","●","●","●","●","●","●","●","●","●","●","●","●","●","●","●","●","●"]
[null,"AXX1FDRIBIOM - Single Port FDR Infiniband IO Module","●","●","●","●","●","●","●","●","●","●","●","●","●","●","●","●","●","●","●","●","●","●","●","●","●","●","●","●"]
[null,"AXX2FDRIBIOM - Dual Port FDR Infiniband IO Module","●","●","●","●","●","●","●","●","●","●","●","●","●","●","●","●","●","●","●","●","●","●","●","●","●","●","●","●"]
[null,"AXX4P1GBPWLIOM - Quad Port 1GbE IO Module","●","●","●","●","●","●","●","●","●","●","●","●","●","●","●","●","●","●","●","●","●","●","●","●","●","●","●","●"]
[null,"AXX1P40FRTIOM - Single Port 40GbE IO Module","●","●","●","●","●","●","●","●","●","●","●","●","●","●","●","●","●","●","●","●","●","●","●","●","●","●","●","●"]
[null,"AXX2P40FRTIOM - Dual Port 40GbE IO Module","●","●","●","●","●","●","●","●","●","●","●","●","●","●","●","●","●","●","●","●","●","●","●","●","●","●","●","●"]
["Battery Backup (See note 9)","BBU (rated to 45C)","●","●","●","","●",null,"","","●",null,"","","●","●","","","●","●","●","","●","●","","","●","●","●",""]
[null,"Supercap (rated to 55C)","●","●","●",null,"●","●",null,null,"●","●",null,null,"●","●",null,null,"●","●","●",null,"●","●",null,null,"●","●","●"]
[null,"Cache Offload Module (rated to 55C)","●","●","●","●","●","●",null,null,"●","●",null,null,"●","●",null,null,"●","●","●",null,"●","●",null,null,"●","●","●"]
["Internal SSD ","Rated to 60C","","","","","●",null,"","","●",null,"","","●",null,"","","●",null,"","","●",null,"","","●",null,"",""]
[null,"Rated to 70C","","","","","●","●","","","●","●","","","●","●","","","●","●","","","●","●","","","●","●","",""]
["Rear SSD","Rated to 60C","","","","","●",null,"","","●",null,"","","●","●","","","●","●","●","","●","●","","","●","●","●",""]
[null,"Rated to 70C","","","","","●","●","","","●","●","●",null,"●","●","●","●","●","●","●","●","●","●","●","●","●","●","●","●"]
["2.5\" SFF NVMe SSD\n(DC P3700/P3500)\n","1600GB/2TB","●","●","●","●",null,null,null,null,"●","●","●","●","●","●","●","●","●","●","●","●","●","●","●","●","●","●","●","●"]
[null,"800GB","●","●","●","●",null,null,null,null,"●","●","●","●","●","●","●","●","●","●","●","●","●","●","●","●","●","●","●","●"]
[null,"600GB ","●","●","●","●",null,null,null,null,"●","●","●","●","●","●","●","●","●","●","●","●","●","●","●","●","●","●","●","●"]
[null,"400GB","●","●","●","●",null,null,null,null,"●","●","●","●","●","●","●","●","●","●","●","●","●","●","●","●","●","●","●","●"]
[null,"200GB","●","●","●","●",null,null,null,null,"●","●","●","●","●","●","●","●","●","●","●","●","●","●","●","●","●","●","●","●"]
["PCIe SSD AIC FF\n(DC P3700/P3500)\n(See note 8)","1600GB/2TB","●","●","●","●","●",null,null,null,"●",null,null,null,"●",8,8,null,"●",8,8,8,"●",8,8,null,"●",8,8]
[null,"800GB","●","●","●","●","●",null,null,null,"●",null,null,null,"●",8,8,null,"●",8,8,8,"●",8,8,null,"●",8,8]
[null,"600GB","●","●","●","●","●","●",8,null,"●","●",8,null,"●","●",8,8,"●","●",8,8,"●","●",8,8,"●","●",8,8]
[null,"400GB","●","●","●","●","●","●",8,null,"●","●",8,null,"●","●",8,8,"●","●",8,8,"●","●",8,8,"●","●",8,8]
[null,"200GB","●","●","●","●","●","●","●","●","●","●","●","●","●","●","●","●","●","●","●","●","●","●","●","●","●","●","●","●"]
["Intel® Xeon Phi™ \n(See Note 7, 10 )\n","Active Cooling up to 300W","","","","","","","","",null,"","","","●",null,"","","●","●"]
[null,"Active Cooling up to 225W","","","","","","","","",null,"","","","●","●","","","●","●"]
[null,"Intel® Xeon Phi™ w/Passive Cooling up to 225W",null,null,null,null,null,null,null,null,null,null,null,null,null,null,null,null,null,null,null,null,"●","●","●","●","●","●","●","●"]
[null,"Intel® Xeon Phi™ w/Passive Cooling up to 245W",null,null,null,null,null,null,null,null,null,null,null,null,null,null,null,null,null,null,null,null,"●","●",null,null,"●","●","●"]
[null,"Intel® Xeon Phi™ w/Passive Cooling up to 300W",null,null,null,null,null,null,null,null,null,null,null,null,null,null,null,null,null,null,null,null,null,null,null,null,"●","●"]

{"sheet":"Fan Fail Config","index":3,"n_rows":61,"n_cols":30,"rows_kept":61,"cut":false,"hidden":false,"merged":[[31,0,38,0],[39,0,41,0],[42,0,43,0],[46,0,50,0],[51,0,55,0],[44,0,45,0],[1,22,1,25],[1,26,1,29],[2,2,2,29],[56,0,60,0],[3,0,4,0],[1,0,2,1],[1,2,1,5],[1,6,1,9],[1,10,1,13],[1,14,1,17],[1,18,1,21],[5,0,7,0],[8,0,19,0],[20,0,22,0],[23,0,28,0],[29,0,30,0]]}
["Fan Failure Thermal Config Matrix",null,null,null,null,null,null,null,null,null,null,null,null,{"$f":"Summary!D15","v":0.91272727272727272},"<-- Margin to PS rating"]
["Notes:\n1.  The 27°C configuration alone is limited to elevations of 900m or less. Altitudes higher than 900m need to be de-rated to ASHRAE Class 2 levels.\n2.  To support system fan redundancy, the system must be configured with two power supplies to maintain sufficient cooling. Concurrent system and power supply fan failures is not supported.\n3.  Processor throttling may occur which may impact system performance. CPU reliability is not impacted.\n4. In fan fail mode, Intel® I/O Modules AXX10GBTWLIOM and AXX2FDRIBIOM are only supported in the specified base system model configured with 120W processors and DRx4 memory.  \n5. Use of the designated PCIe* slot is limited to add-in cards that have air flow requirements of 100 LFM or less. See add-in card specs for air flow requirements.\n6. For ASHRAE Class 3 and Class 4 support, the following power supply margining is required to meet thermal specifications:\na) For dual power supply configurations, the power budget must fit within  a single power supply rated load and be installed in a dual configuration, or\nb) For single power supply configurations, the power budget must be sized with 30% margin to single power supply rated load.\n7. Intel® Xeon Phi™ or non-Intel GPGPU cards may have performance impact during ASHRAE Class 3 and Class 4 ambient air excursions.\n8. PCIe* SSD AIC FF devices can only be supported in the bottom add-in card slot on Riser Slot #1 and Riser Slot #2. \n9. The Intel® RAID Maintenance Free Backup Unit (AXXRMFBUx) can support a case temperature of up to 45°C with the system operating in normal mode and up to 55°C with the system operating in a fan fail mode. The case temperature of Intel® Smart RAID Battery (AXXRSBBUx) can support up to 45°C in both normal and fan fail mode.  Excursions over these specs may result in a reliability impact.  \n10. The system must be configured with Intel® accessory kits AWTCOPRODUCT and A2UL16RISER2 in order to support Intel® Xeon Phi™ or Non-Intel GPGPU add-in cards with passive cooling solutions.",null,"Base System SKUs:\nR1304WT/R1208WT",null,null,null,"Base System SKUs:    R2312WT",null,null,null,"Base System SKUs:      R2224WT",null,null,null,"Base System SKUs:    \nR2308WT R2216WT",null,null,null," Base System SKUs:                 R2208WT",null,null,null,"Base System SKUs:    \nR2308WT R2216WT \nwith AWTCOPRODUCT  ",null,null,null," Base System SKUs:                 R2208WT with duct\nAWTCOPRODUCT"]
[null,null," \"●\"= Full Support without limitation;  \"4,5\"(Cell with number)=Conditional support with limitation;\n\" \"(Blank)=Not support; "]
["ASHRAE (See note 1)","Classifications","27C","A2","A3","A4","27C","A2","A3","A4","27C","A2","A3","A4","27C","A2","A3","A4","27C","A2","A3","A4","27C","A2","A3","A4","27C","A2","A3","A4"]
[null,"Max Ambient","27°C(1)","35°C","40°C","45°C","27°C(1)","35°C","40°C","45°C","27°C(1)","35°C","40°C","45°C","27°C(1)","35°C","40°C","45°C","27°C(1)","35°C","40°C","45°C","27°C(1)","35°C","40°C","45°C","27°C(1)","35°C","40°C","45°C"]
["PS (See note 6)","1100W AC",2,2,null,null,2,2,null,null,2,2,null,null,2,2,null,null,2,2,null,null,2,2,null,null,2,2]
[null,"750W AC",2,2,null,null,2,2,null,null,2,2,null,null,2,2,null,null,2,2,null,null,2,2,null,null,2,2]
[null,"750W DC",2,2,null,null,2,2,null,null,2,2,null,null,2,2,null,null,2,2,null,null,2,2,null,null,2,2]
["EP Processors\n( See Notes 3)","EP, 135w, 12C  (Intel® Xeon® processor E5-2690 V3)","●","●",null,null,"●",3,null,null,"●","●",null,null,"●","●",null,null,"●","●",null,null,3,null,null,null,3,3]
[null,"EP, 120w, 12C  (Intel® Xeon® processor E5-2680 V3, E5-2670 V3)","●","●",null,null,"●",3,null,null,"●","●",null,null,"●","●",null,null,"●","●",null,null,3,null,null,null,3,3]
[null,"EP, 105w, 10C  (Intel® Xeon® processor E5-2660 V3, E5-2650 V3)","●","●",null,null,"●",3,null,null,"●","●",null,null,"●","●",null,null,"●","●",null,null,3,null,null,null,"●",3]
[null,"EP, 90w, 8C (Intel® Xeon® processor E5-2640 V3)","●","●",null,null,"●",3,null,null,"●","●",null,null,"●","●",null,null,"●","●",null,null,3,null,null,null,"●",3]
[null,"EP, 85w,8C,6C (Intel® Xeon® processor E5-2630 V3, E5-2620 V3, E5-2609 V3, E5-2603 V3)","●","●",null,null,"●",3,null,null,"●","●",null,null,"●","●",null,null,"●","●",null,null,3,null,null,null,"●",3]
[null,"EP, 135w, 8C,6C,4C (Intel® Xeon® processor E5-2667 V3, E5-2643 V3, E5-2637 V3)",3,3,null,null,3,null,null,null,3,null,null,null,"●",3,null,null,"●","●"]
[null,"EP, 105w, 4C (Intel® Xeon® processor E5-2623 V3)","●","●",null,null,"●",3,null,null,"●",3,null,null,"●","●",null,null,"●","●",null,null,3,null,null,null,"●",3]
[null,"EP, 65w, 12C  (Intel® Xeon® processor E5-2650L V3)","●","●",null,null,"●",null,null,null,"●",3,null,null,"●","●",null,null,"●","●",null,null,3,null,null,null,"●",3]
[null,"EP, 55w, 8C  (Intel® Xeon® processor E5-2630L V3)","●","●",null,null,"●",null,null,null,"●",3,null,null,"●","●",null,null,"●","●",null,null,null,null,null,null,"●",3]
[null,"EP, 145w, 14C,18C  (Intel® Xeon® processor E5-2697 V3, E5-2699 V3)",3,3,null,null,3,null,null,null,3,null,null,null,"●",3,null,null,"●","●"]
[null,"EP, 135w, 16C  (Intel® Xeon® processor E5-2698 V3)","●","●",null,null,"●",null,null,null,"●","●",null,null,"●","●",null,null,"●","●",null,null,3,null,null,null,3,3]
[null,"EP, 120w, 14C (Intel® Xeon® processor E5-2695 V3, E5-2683 V3)","●","●",null,null,"●",null,null,null,"●","●",null,null,"●","●",null,null,"●","●",null,null,3,null,null,null,3,3]
["Memory Type\n","RDIMM-2Rx8,1Rx4","●","●",null,null,"●","●",null,null,"●","●",null,null,"●","●",null,null,"●","●",null,null,"●","●",null,null,"●","●"]
[null,"RDIMM-DRx4","●","●",null,null,"●","●",null,null,"●","●",null,null,"●","●",null,null,"●","●",null,null,"●","●",null,null,"●","●"]
[null,"LRDIMM-QRx4 DDP","●","●",null,null,"●","●",null,null,"●","●",null,null,"●","●",null,null,"●","●",null,null,"●","●",null,null,"●","●"]
["Add-in Cards     (See note 5)","Riser #1 - Bottom Slot (1U riser and 2U riser)","●","●",null,null,"●","●",null,null,"●","●",null,null,"●","●",null,null,"●","●",null,null,"●","●",null,null,"●","●"]
[null,"Riser #1 - Middle Slot (2U riser)",null,null,null,null,"●",5,null,null,"●",5,null,null,"●","●",null,null,"●","●"]
[null,"Riser #1 - Top Slot (2U riser)",null,null,null,null,"●",5,null,null,"●",5,null,null,"●","●",null,null,"●","●"]
[null,"Riser #2 - Bottom Slot (1U riser and 2U riser)","●","●",null,null,"●","●",null,null,"●","●",null,null,"●","●",null,null,"●","●",null,null,"●","●",null,null,"●","●"]
[null,"Riser #2 - Middle Slot (2U riser)",null,null,null,null,"●",5,null,null,"●","●",null,null,"●","●",null,null,"●","●"]
[null,"Riser #2 - Top Slot (2U riser)",null,null,null,null,"●",5,null,null,"●","●",null,null,"●","●",null,null,"●","●"]
["3rd PCI Riser","Riser #3 - Bottom Slot","","",null,null,"●",5,null,null,"●",5,null,null,"●","●",null,null,"●","●",null,null,"●","●",null,null,"●","●"]
[null,"Riser #3 - Top Slot","","",null,null,"●",5,null,null,"●",5,null,null,"●","●",null,null,"●","●",null,null,"●","●",null,null,"●","●"]
["SAS and I/O Modules (See Note 4)","Intel® Integrated RAID Modules (Mezzanine cards)","●","●",null,null,"●","●",null,null,"●","●",null,null,"●","●",null,null,"●","●",null,null,"●","●",null,null,"●","●"]
[null,"AXX10GBTWLIOM - Dual 10GBASE-T IO Module ","●","●",null,null,"●",4,null,null,"●",4,null,null,"●","●",null,null,"●","●",null,null,"●","●",null,null,"●","●"]
[null,"AXX10GBNIAIOM - Dual SFP+ port 10GbE IO Module","●","●",null,null,"●","●",null,null,null,"●",null,null,"●","●",null,null,"●","●",null,null,"●","●",null,null,"●","●"]
[null,"AXX1FDRIBIOM - Single Port FDR Infiniband IO Module","●","●",null,null,"●","●",null,null,"●","●",null,null,"●","●",null,null,"●","●",null,null,"●","●",null,null,"●","●"]
[null,"AXX2FDRIBIOM - Dual Port FDR Infiniband IO Module","●","●",null,null,"●",4,null,null,"●",4,null,null,"●","●",null,null,"●","●",null,null,"●","●",null,null,"●","●"]
[null,"AXX4P1GBPWLIOM - Quad Port 1GbE IO Module","●","●",null,null,"●","●",null,null,"●","●",null,null,"●","●",null,null,"●","●",null,null,"●","●",null,null,"●","●"]
[null,"AXX1P40FRTIOM - Single Port 40GbE IO Module","●","●",null,null,"●","●",null,null,"●","●",null,null,"●","●",null,null,"●","●",null,null,"●","●",null,null,"●","●"]
[null,"AXX2P40FRTIOM - Dual Port 40GbE IO Module","●","●",null,null,"●","●",null,null,"●","●",null,null,"●","●",null,null,"●","●",null,null,"●","●",null,null,"●","●"]
["Battery Backup (See note 9)","BBU (rated to 45C)","●","●",null,null,null,null,null,null,"●",null,null,null,"●","●",null,null,"●","●",null,null,"●","●",null,null,"●","●"]
[null,"Supercap (rated to 55C)","●","●",null,null,"●",null,null,null,"●","●",null,null,"●","●",null,null,"●","●",null,null,"●","●",null,null,"●","●"]
[null,"Cache Offload Module (rated to 55C)","●","●",null,null,"●",null,null,null,"●","●",null,null,"●","●",null,null,"●","●",null,null,"●","●",null,null,"●","●"]
["Internal SSD ","Rated to 60C","","",null,null,"●",null,null,null,"●",null,null,null,"●",null,null,null,"●",null,null,null,"●",null,null,null,"●"]
[null,"Rated to 70C","","",null,null,"●","●",null,null,"●","●",null,null,"●","●",null,null,"●","●",null,null,"●","●",null,null,"●","●"]
["Rear SSD","Rated to 60C","","",null,null,"●",null,null,null,"●",null,null,null,"●","●",null,null,"●","●",null,null,"●","●",null,null,"●","●"]
[null,"Rated to 70C","","",null,null,"●","●",null,null,"●","●",null,null,"●","●",null,null,"●","●",null,null,"●","●",null,null,"●","●"]
["2.5\" SFF NVMe SSD\n(DC P3700/P3500)\n","1600GB/2TB","●","●",null,null,null,null,null,null,"●","●",null,null,"●","●",null,null,"●","●",null,null,"●","●",null,null,"●","●"]
[null,"800GB","●","●",null,null,null,null,null,null,"●","●",null,null,"●","●",null,null,"●","●",null,null,"●","●",null,null,"●","●"]
[null,"600GB ","●","●",null,null,null,null,null,null,"●","●",null,null,"●","●",null,null,"●","●",null,null,"●","●",null,null,"●","●"]
[null,"400GB","●","●",null,null,null,null,null,null,"●","●",null,null,"●","●",null,null,"●","●",null,null,"●","●",null,null,"●","●"]
[null,"200GB","●","●",null,null,null,null,null,null,"●","●",null,null,"●","●",null,null,"●","●",null,null,"●","●",null,null,"●","●"]
["PCIe SSD AIC FF\n(DC P3700/P3500)\n(See note 8)","1600GB/2TB","●","●",null,null,null,null,null,null,null,null,null,null,8,8,null,null,8,8,null,null,8,8,null,null,8,8]
[null,"800GB","●","●",null,null,null,null,null,null,null,null,null,null,8,8,null,null,8,8,null,null,8,8,null,null,8,8]
[null,"600GB","●","●",null,null,"●",8,null,null,"●",8,null,null,"●","●",null,null,"●","●",null,null,"●","●",null,null,"●","●"]
[null,"400GB","●","●",null,null,"●",8,null,null,"●",8,null,null,"●","●",null,null,"●","●",null,null,"●","●",null,null,"●","●"]
[null,"200GB","●","●",null,null,"●","●",null,null,"●","●",null,null,"●","●",null,null,"●","●",null,null,"●","●",null,null,"●","●"]
["Intel® Xeon Phi™ \n(See Note 7, 10 )\n","Active Cooling up to 300W","","",null,null,"","",null,null,null,"",null,null,"●","",null,null,"●"]
[null,"Active Cooling up to 225W","","",null,null,"","",null,null,null,"",null,null,"●","●",null,null,"●","●"]
[null,"Intel® Xeon Phi™ w/Passive Cooling up to 225W",null,null,null,null,null,null,null,null,null,null,null,null,null,null,null,null,null,null,null,null,"●","●",null,null,"●","●"]
[null,"Intel® Xeon Phi™ w/Passive Cooling up to 245W",null,null,null,null,null,null,null,null,null,null,null,null,null,null,null,null,null,null,null,null,"●",null,null,null,"●"]
[null,"Intel® Xeon Phi™ w/Passive Cooling up to 300W",null,null,null,null,null,null,null,null,null,null,null,null,null,null,null,null,null,null,null,null,null,null,null,null,"●"]

{"sheet":"Summary","index":4,"n_rows":34,"n_cols":9,"rows_kept":34,"cut":false,"hidden":false,"merged":[[0,1,0,3]]}
["Power Budget",{"$f":"CONCATENATE(INDEX(Chassis!$L$3:$L$13,'Intel Chassis'!$B3),\" / \",INDEX(Serverboard!A$2:A$13,'Serverboard Config'!$B5) )","v":"R2XXX / (Select Serverboard)"}]
["Chassis/ Power Supply / Cooling:",{"$f":"INDEX(Chassis!A$3:A$13,'Intel Chassis'!$B3)","v":"R2XXX (2U 1100W AC PSU)"}]
["Serverboard:",{"$f":"INDEX(Serverboard!A$2:A$13,'Serverboard Config'!$B5)","v":"(Select Serverboard)"}]
["System Totals"," +12V (amps)","12VSB (amps)","Total System Watts "]
[{"$f":"CONCATENATE(\"Processors - Qty \",'Serverboard Config'!C4, \":\")","v":"Processors - Qty 1:"},{"$f":"SUM('Serverboard Config'!F3)","v":0},{"$f":"SUM('Serverboard Config'!G3)","v":0},{"$f":"SUM('Serverboard Config'!H3)","v":0}]
[{"$f":"CONCATENATE(\"Modules + PCI Cards - Qty \",('Serverboard Config'!B7>1) + ('Serverboard Config'!B8>1) + ('Serverboard Config'!B9>1) + ('Serverboard Config'!B10>1) +('Serverboard Config'!B11>1)+('Serverboard Config'!B12>1)+('Serverboard Config'!B13>1)+('Serverboard Config'!B14>1)+('Serverboard Config'!B16>1)+('Serverboard Config'!B17>1),\":\")","v":"Modules + PCI Cards - Qty 0:"},{"$f":"SUM('Serverboard Config'!F7:F17)","v":0},{"$f":"SUM('Serverboard Config'!G7:G17)","v":0},{"$f":"SUM('Serverboard Config'!H7:H17)","v":0}]
[{"$f":"CONCATENATE(\"HDD/SSD - Qty \",'Intel Chassis'!C4+'Intel Chassis'!C5+'Intel Chassis'!C6,\":\")","v":"HDD/SSD - Qty 0:"},{"$f":"SUM('Intel Chassis'!G4:G6)","v":0},0,{"$f":"SUM('Intel Chassis'!I4:I6)","v":0}]
["Serverboard & Memory:",{"$f":"SUM('Serverboard Config'!F5:F6)","v":0},{"$f":"SUM('Serverboard Config'!G5:G6)","v":0},{"$f":"SUM('Serverboard Config'!H5:H6)","v":0}]
["Chassis & Peripherals:",{"$f":"_Sys12 - B7","v":8},{"$f":"'Intel Chassis'!H15","v":0},{"$f":"3.3*Sys3.3+5*_Sys5+ 12*_Sys12-D7","v":96}]
["System Totals:",{"$f":"SUM(B5:B9)","v":8},{"$f":"SUM(C5:C9)","v":0},{"$f":"SUM(D5:D9)","v":96}]
[{"$f":"TEXT(INDEX(Summary!H19:H22,Summary!B19),\"###\") & TEXT(INDEX(Summary!I19:I22,Summary!B19),\"###\") &\" PS DC Output Limits:\"","v":"220VAC PS DC Output Limits:"},{"$f":"INDEX(Chassis!B$3:B$13,'Intel Chassis'!$B3)","v":92},{"$f":"INDEX(Chassis!C$3:C$13,'Intel Chassis'!$B3)","v":2.1},{"$f":"INDEX(Chassis!D$3:D$13,'Intel Chassis'!$B3)","v":1100},"<-- These limits may change based on inlet voltage"]
["CLST Allowance",{"$f":"'Serverboard Config'!F22","v":0},null,{"$f":"'Serverboard Config'!H22","v":0}]
["Total System Limits",{"$f":"B12+PS1_12","v":92},{"$f":"C12+PS1_5VSB","v":2.1},{"$f":"D12+ps1CombLim","v":1100}]
["Margins to Limit:",{"$f":"B13-B10","v":84},{"$f":"C13-C10","v":2.1},{"$f":"D13-PowerTotal","v":1004},{"$f":"IF((OR(B14<0,C14<0)),\"<-- Limits Exceeded!\",\"<--System Margins\")","v":"<--System Margins"}]
["Negative margins show configuration exceeds a specified limit.",null,null,{"$f":"(D11-D10)/D11","v":0.91272727272727272},"<-- % margin to PS rating"]
[]
[]
["AC inlet power estimate (below)"]
["Input Voltage:",1," (Volts)",null,null,null,null,220,"VAC"]
["Estimated  Inlet Power:",{"$f":"IF(INDEX(Chassis!$H$3:$K$13,'Intel Chassis'!$B3,B19)=\"na\",\"na\",PowerTotal/ (INDEX(Chassis!$H$3:$K$13,'Intel Chassis'!$B3,B19)+0.001))","v":102.01912858660999}," (Watts)","Calculation is blank if voltage does not match PS type",null,null,null,115,"VAC"]
["Estimated Inlet Current:",{"$f":"IF(B20=\"na\",\"na\",B20/ABS(INDEX(H19:H22,B19)))","v":0.46372331175731818}," (Amps)","Calculation is blank if voltage does not match PS type",null,null,null,-48,"VDC"]
["Estimated Thermal Dissipation:",{"$f":"IF(B20=\"na\",\"na\",B20*3.41)","v":347.88522848034012}," (BTU/Hr)","Calculation is blank if voltage does not match PS type",null,null,null,-60,"VDC"]
["Note: Estimates are most accurate at max loading."]
[]
[]
["If your desired configuration exceeds the power supply limits, two power supplies are required.  The two power supplies will operate in a current sharing mode "]
["to deliver the additional power needed for your configuration.  Furthermore, the two power supplies may need to be sourced from separate AC circuits in order to not"]
["exceed maximum AC outlet current.  Exceeding maximum AC outlet current may cause a circuit breaker to trip."]
[]
["For A3/A4 individual PS selection "]
["     1) For dual power supply configuration, power budget must fit within single power supply rated load and be installed in dual configuration, or"]
["     2) For single power supply configuration, power budget must be sized with 30% margin to single power supply rated load."]
[]
[{"$f":"CONCATENATE(\"Revision: \",Revision!B1)","v":"Revision: 1.1"},{"$f":"Revision!A1","v":"2014-10-01"}]

{"sheet":"Intel Chassis","index":5,"n_rows":22,"n_cols":11,"rows_kept":22,"cut":false,"hidden":false,"merged":[]}
["Power Budget",{"$f":"CONCATENATE(INDEX(Chassis!$L$3:$L$13,B3), \" System Configuration\")","v":"R2XXX System Configuration"},null,null,null,null,null,null,null,null,"HSBP VRM Efficiency"]
["System Feature","Description","Qty",null,"+3.3V (amps)","+5V (amps)"," +12V (amps)","12V \nstby (amps)","Power\n(watts)",null,{"$f":"INDEX(Chassis!$G$3:$G$13,B3)","v":0.9}]
["Chassis:",6,null,null,null,null,{"$f":"INDEX(Chassis!$E$3:$E$13,B3)+IF(INDEX(Chassis!$F$3:$F$13,B3)=\"Y\",(INDEX(Processors!C2:C28,'Serverboard Config'!B3)*'Serverboard Config'!C4),0)","v":8},null,{"$f":"G3*12+H3*12","v":96}]
["1st HDD/SSD Type: ",1,0,null,null,{"$f":"INDEX(HardDrive!$C$2:$C$19,B4) *C4 * 1","v":0},{"$f":"(INDEX(HardDrive!$D$2:$D$19,B4)*C4+((F4*5)/12)/$K$2) *1","v":0},null,0,{"$f":"IF($C$4+$C$5+$C$6>(INDEX(HardDrive!$F$22:$F$36*$C$7,'Intel Chassis'!$B$7))+(INDEX(HardDrive!$F$22:$F$36*$C$8, $B$8))+(INDEX(HardDrive!$F22:$F$36*$C$9, $B$9)),\" <-- Max Supported HDD Count Exceeded!\",\" \")","v":" "}]
["2nd HDD/SSD Type: ",1,0,null,null,{"$f":"INDEX(HardDrive!$C$2:$C$19,B5) *C5 *1","v":0},{"$f":"(INDEX(HardDrive!$D$2:$D$19,B5) *C5+((F5*5)/12)/$K$2) *1","v":0},null,0,{"$f":"IF($C$4+$C$5+$C$6>(INDEX(HardDrive!$F$22:$F$36*$C$7,'Intel Chassis'!$B$7))+(INDEX(HardDrive!$F$22:$F$36*$C$8, $B$8))+(INDEX(HardDrive!$F23:$F$36*$C$9, $B$9)),\" <-- Max Supported HDD Count Exceeded!\",\" \")","v":" "}]
["3rd HDD/SSD Type: ",1,0,null,null,{"$f":"INDEX(HardDrive!$C$2:$C$19,B6) *C6 *1","v":0},{"$f":"(INDEX(HardDrive!$D$2:$D$19,B6) *C6+((F6*5)/12)/$K$2) *1","v":0},null,0,{"$f":"IF($C$4+$C$5+$C$6>(INDEX(HardDrive!$F$22:$F$36*$C$7,'Intel Chassis'!$B$7))+(INDEX(HardDrive!$F$22:$F$36*$C$8, $B$8))+(INDEX(HardDrive!$F24:$F$36*$C$9, $B$9)),\" <-- Max Supported HDD Count Exceeded!\",\" \")","v":" "}]
[" 1st Backplane Type: ",1,0,null,null,null,{"$f":"(INDEX(HardDrive!$D$22:$D$36,B7) *C7+((F7*5)/12)/$K$2) *1","v":0},null,0]
["2nd Backplane Type: ",1,0,null,null,null,{"$f":"(INDEX(HardDrive!$D$22:$D$36,B8) *C8+((F8*5)/12)/$K$2) *1","v":0},null,{"$f":"G8*12+H8*12","v":0}]
["Rear  Backplane: ",1,0,null,null,null,{"$f":"(INDEX(HardDrive!$B$39:$B$41,B9) *C9+((F9*5)/12)/$K$2) *1","v":0},null,{"$f":"G9*12+H9*12","v":0}]
["Midplane Expander: ",1,1,null,null,null,{"$f":"(INDEX(Peripherals!$D$19:$D$24,B10) *C10) *1","v":0},null,0]
["USB: ","Number of Devices (100mA/device)",0,null,null,{"$f":"0.1*C11","v":0},{"$f":"((F11*5)/12)/_5vVRM","v":0},null,0]
["USB 3.0: ","Number of Devices (150mA/device)",0,null,null,{"$f":"0.15*C12","v":0},{"$f":"((F12*5)/12)/_5vVRM","v":0},null,{"$f":"G12*12+H12*12","v":0}]
["Display: ","Optional LCP",0,null,null,null,null,{"$f":"(0.171*3.3)/12/_stbyVRM*C13","v":0},0]
["Slim-line Bay: ",1,1,null,null,{"$f":"INDEX(Peripherals!C$3:C$9,$B14) *C14","v":0},{"$f":"(INDEX(Peripherals!$D$3:$D$9,B14)*C14+((F14*5)/12)/_5vVRM) *1","v":0},null,0]
[null,null,null,null,{"$f":"SUM(E3:E14)","v":0},null,{"$f":"SUM(G3:G14)","v":8},{"$f":"SUM(H3:H14)","v":0},{"$f":"E15*3.3+F15*5+G15*12","v":96}]
[null,"SubTotal Chassis Power (Watts):",null,null,null,null,{"$f":"G15*12","v":96},{"$f":"H15*5","v":0},{"$f":"SUM(E16:G16)","v":96}]
[null,"Total System usage:",null,null,null,null,{"$f":"Summary!B10","v":8},{"$f":"Summary!C10","v":0},{"$f":"Summary!D10","v":96}]
[null,{"$f":"TEXT(INDEX(Summary!H19:H22,Summary!B19),\"###\") & TEXT(INDEX(Summary!I19:I22,Summary!B19),\"###\") &\" PS DC Output Limits:\"","v":"220VAC PS DC Output Limits:"},null,null,null,null,{"$f":"PS1_12","v":92},{"$f":"PS1_5VSB","v":2.1},{"$f":"ps1CombLim","v":1100},"<-- These limits may change based on inlet voltage"]
[null,"CLST Allowance:",null,null,null,null,{"$f":"'Serverboard Config'!F22","v":0},null,{"$f":"'Serverboard Config'!H22","v":0}]
[null,"Total System Limits:",null,null,null,null,{"$f":"'Serverboard Config'!F23","v":92},{"$f":"H18","v":2.1},{"$f":"'Serverboard Config'!H23","v":1100}]
[null,"Margins compared to Limits:",null,null,null,null,{"$f":"G20-G17","v":84},2.1,{"$f":"I20-I17","v":1004},{"$f":"IF(OR(G21<0,H21<0,I21<0),\"<-- Limits Exceeded!\",\"<--System Margins\")","v":"<--System Margins"}]
[null,null,null,null,null,null,null,null,{"$f":"(I18-I17)/I18","v":0.91272727272727272},"<-- % margin to PS rating"]

{"sheet":"Serverboard Config","index":6,"n_rows":32,"n_cols":17,"rows_kept":32,"cut":false,"hidden":false,"merged":[[0,1,0,7]]}
["Power Budget",{"$f":"CONCATENATE(INDEX(Serverboard!A$2:A$13,$B5),\" Configuration\")","v":"(Select Serverboard) Configuration"},null,null,null,null,null,null,null,"CPU VRM Efficiency","Mem VR Efficiency","3.3v VRM Efficiency","5v VRM Efficiency","3.3 Stby VR Efficiency"]
["Serverboard Feature","Description",null,"+3.3V (amps)","+5V (amps)"," +12V (amps)","12V \nstby (amps)","Power (watts)",null,{"$f":"INDEX(Serverboard!E$2:E$11,$B5)","v":1},{"$f":"INDEX(Serverboard!F$2:F$11,$B5)","v":0},{"$f":"INDEX(Serverboard!G$2:G$11,$B5)","v":1},{"$f":"INDEX(Serverboard!H$2:H$11,$B5)","v":1},{"$f":"INDEX(Serverboard!I$2:I$11,$B5)","v":1},"<--Hide these columns"]
["Processors:",1,null,null,null,{"$f":"C4*INDEX(Processors!B$2:B$28,$B3)/12/VRMefficiency*0.9","v":0},null,{"$f":"F3*12+E3*5","v":0}]
[null,"Quantity:",1]
["Serverboard:",1,null,null,null,{"$f":"INDEX(Serverboard!B$2:B$13,$B5) *1","v":0},{"$f":"INDEX(Serverboard!C$2:C$13,$B5) *1","v":0},{"$f":"INDEX(Serverboard!D$2:D$13,$B5) *1","v":0}]
["Memory:",1,1,null,null,{"$f":"IF(C6=1,0,((HLOOKUP(INDEX(Memory!A31:A41,$C6),Memory!B5:I21,B6+2,FALSE))/12/_MemVR*0.9))","v":0},null,{"$f":"D6*3.3+E6*5+F6*12+G6*12","v":0},{"$f":"IF(C6=1,\"\",IF(HLOOKUP(INDEX(Memory!A31:A41,$C6),Memory!B5:I21,B6+2,FALSE)=\"na\",\"<-- unsupported DIMM config\",\"\"))","v":""}]
["PCI Card #1:",1,null,{"$f":"INDEX(PCI!B$3:B$22,$B7)","v":0},{"$f":"INDEX(PCI!C$3:C$22,$B7)","v":0},{"$f":"INDEX(PCI!D$3:D$22,$B7)+((D7*3.3)/12)/$L$2+((E7*5)/12)/$M$2","v":0},{"$f":"((INDEX(PCI!$E$3:$E$22,$B7)*3.3)+(INDEX(PCI!$F$3:$F$22,$B7))*5)/12/_stbyVRM","v":0},{"$f":"F7*12+G7*12","v":0}]
["PCI Card #2:",1,null,{"$f":"INDEX(PCI!B$3:B$22,$B8)","v":0},{"$f":"INDEX(PCI!C$3:C$22,$B8)","v":0},{"$f":"INDEX(PCI!D$3:D$22,$B8)+((D8*3.3)/12)/$L$2+((E8*5)/12)/$M$2","v":0},{"$f":"((INDEX(PCI!$E$3:$E$22,$B8)*3.3)+(INDEX(PCI!$F$3:$F$22,$B8))*5)/12/_stbyVRM","v":0},0]
["PCI Card #3:",1,null,{"$f":"INDEX(PCI!B$3:B$22,$B9)","v":0},{"$f":"INDEX(PCI!C$3:C$22,$B9)","v":0},{"$f":"INDEX(PCI!D$3:D$22,$B9)+((D9*3.3)/12)/$L$2+((E9*5)/12)/$M$2","v":0},{"$f":"((INDEX(PCI!$E$3:$E$22,$B9)*3.3)+(INDEX(PCI!$F$3:$F$22,$B9))*5)/12/_stbyVRM","v":0},0]
["PCI Card #4:",1,null,{"$f":"INDEX(PCI!B$3:B$22,$B10)","v":0},{"$f":"INDEX(PCI!C$3:C$22,$B10)","v":0},{"$f":"INDEX(PCI!D$3:D$22,$B10)+((D10*3.3)/12)/$L$2+((E10*5)/12)/$M$2","v":0},{"$f":"((INDEX(PCI!$E$3:$E$22,$B10)*3.3)+(INDEX(PCI!$F$3:$F$22,$B10))*5)/12/_stbyVRM","v":0},0]
["PCI Card #5:",1,null,{"$f":"INDEX(PCI!B$3:B$22,$B11)","v":0},{"$f":"INDEX(PCI!C$3:C$22,$B11)","v":0},{"$f":"INDEX(PCI!D$3:D$22,$B11)+((D11*3.3)/12)/$L$2+((E11*5)/12)/$M$2","v":0},{"$f":"((INDEX(PCI!$E$3:$E$22,$B11)*3.3)+(INDEX(PCI!$F$3:$F$22,$B11))*5)/12/_stbyVRM","v":0},0]
["PCI Card #6:",1,null,{"$f":"INDEX(PCI!B$3:B$22,$B12)","v":0},{"$f":"INDEX(PCI!C$3:C$22,$B12)","v":0},{"$f":"INDEX(PCI!D$3:D$22,$B12)+((D12*3.3)/12)/$L$2+((E12*5)/12)/$M$2","v":0},{"$f":"((INDEX(PCI!$E$3:$E$22,$B12)*3.3)+(INDEX(PCI!$F$3:$F$22,$B12))*5)/12/_stbyVRM","v":0},0]
["LP PCI Card #7:",1,null,{"$f":"INDEX(PCI!B$3:B$22,$B13)","v":0},{"$f":"INDEX(PCI!C$3:C$22,$B13)","v":0},{"$f":"INDEX(PCI!D$3:D$22,$B13)+((D13*3.3)/12)/$L$2+((E13*5)/12)/$M$2","v":0},{"$f":"((INDEX(PCI!$E$3:$E$22,$B13)*3.3)+(INDEX(PCI!$F$3:$F$22,$B13))*5)/12/_stbyVRM","v":0},{"$f":"F13*12+G13*12","v":0}]
["LP PCI Card #8:",1,null,{"$f":"INDEX(PCI!B$3:B$22,$B14)","v":0},{"$f":"INDEX(PCI!C$3:C$22,$B14)","v":0},{"$f":"INDEX(PCI!D$3:D$22,$B14)+((D14*3.3)/12)/$L$2+((E14*5)/12)/$M$2","v":0},{"$f":"((INDEX(PCI!$E$3:$E$22,$B14)*3.3)+(INDEX(PCI!$F$3:$F$22,$B14))*5)/12/_stbyVRM","v":0},0]
["eUSB:",1,null,{"$f":"INDEX(PCI!B$55:B$58,$B15)","v":0},{"$f":"INDEX(PCI!C$55:C$58,$B15)","v":0},{"$f":"INDEX(PCI!D$55:D$58,$B15)+((D15*3.3)/12)/$L$2+((E15*5)/12)/$M$2","v":0},{"$f":"((INDEX(PCI!E55:E58,$B15)*3.3)+(INDEX(PCI!F55:F58,$B15))*5)/12/_stbyVRM","v":0},0]
["SAS Mezzanine:",1,null,{"$f":"INDEX(PCI!B$25:B$32,$B16)","v":0},{"$f":"INDEX(PCI!C$25:C$32,$B16)","v":0},{"$f":"INDEX(PCI!D$25:D$32,$B16)+((D16*3.3)/12)/$L$2+((E16*5)/12)/$M$2","v":0},{"$f":"((INDEX(PCI!E25:E32,$B16)*3.3)+(INDEX(PCI!F25:F32,$B16))*5)/12/_stbyVRM","v":0},0]
["IO Module:",1,null,{"$f":"INDEX(PCI!B$43:B$52,$B17)","v":0},{"$f":"INDEX(PCI!C$43:C$52,$B17)","v":0},{"$f":"INDEX(PCI!D$43:D$52,$B17)+((D17*3.3)/12)/$L$2+((E17*5)/12)/$M$2","v":0},{"$f":"((INDEX(PCI!E43:E52,$B17)*3.3)+(INDEX(PCI!F43:F52,$B17))*5)/12/_stbyVRM","v":0},0]
[null,"SubTotals:",null,null,null,{"$f":"SUM(F3:F17)","v":0},{"$f":"SUM(G3:G17)","v":0},{"$f":"SUM(H3:H17)","v":0}]
[null,"SubTotal Serverboard Power (Watts):",null,null,null,{"$f":"(F18)*12","v":0},{"$f":"(G18)*5","v":0},{"$f":"SUM(D19:G19)","v":0}]
[null,"Total System usage:",null,null,null,{"$f":"Summary!B10","v":8},{"$f":"Summary!C10","v":0},{"$f":"Summary!D10","v":96}]
[null,{"$f":"TEXT(INDEX(Summary!H19:H22,Summary!B19),\"###\") & TEXT(INDEX(Summary!I19:I22,Summary!B19),\"###\") &\" PS DC Output Limits:\"","v":"220VAC PS DC Output Limits:"},null,null,null,{"$f":"PS1_12","v":92},{"$f":"PS1_5VSB","v":2.1},{"$f":"ps1CombLim","v":1100},"<-- These limits may change based on inlet voltage"]
[null,"CLST Allowance:",null,null,null,{"$f":"F3*25%+F6*20%","v":0},null,{"$f":"H3*25%+H6*20%","v":0}]
[null,"Total System Limits:",null,null,null,{"$f":"F22+F21","v":92},{"$f":"G22+G21","v":2.1},{"$f":"H22+H21","v":1100}]
[null,null,"Margin compared to Limits:",null,null,{"$f":"F23-F20","v":84},{"$f":"G23-G20","v":2.1},{"$f":"H23-H20","v":1004},{"$f":"IF(OR(F24<0,G24<0,H24<0),\"<-- Limits Exceeded!\",\"<--System Margins\")","v":"<--System Margins"}]
[null,null,null,null,null,null,null,{"$f":"(H21-H20)/H21","v":0.91272727272727272},"<-- % margin to PS rating"]
[]
[]
[null,null,null,null,null,null,null,null,null,null,null,null,null,null,null,null," "]
[]
[]
["CPU = 25% of TDP"]
["Memory = 10% Bandwidth"]

{"sheet":"Serverboard","index":7,"n_rows":11,"n_cols":10,"rows_kept":11,"cut":false,"hidden":false,"merged":[]}
["Serverboard",12,"12VSB","Watts","CPU VR\nEff%","Mem VR Eff%","5v VR\nEff%","3v VR\nEff%","Stby/Aux Eff%"]
["(Select Serverboard)",null,null,null,1,null,1,1,1]
["Intel® Server Board S2600WT2",{"$f":"62/12","v":5.166666666666667},{"$f":"2.1/12","v":0.17500000000000002},{"$f":"B3*12+C3*12","v":64.099999999999994},0.88,0.88,0.85,0.9,0.87]
["Intel® Server Board S2600WTT",{"$f":"62/12","v":5.166666666666667},{"$f":"2.1/12","v":0.17500000000000002},{"$f":"B4*12+C4*12","v":64.099999999999994},0.88,0.88,0.85,0.9,0.87]
[null,null,null,{"$f":"B5*12+C5*12","v":0},0.8,0.8,0.8,0.8,0.8,"<-- Define Custom Numbers Here"]
[null,null,null,0,0.8,0.8,0.8,0.8,0.8,"<-- Define Custom Numbers Here"]
[null,null,null,0,0.8,0.8,0.8,0.8,0.8,"<-- Define Custom Numbers Here"]
[null,null,null,0,0.8,0.8,0.8,0.8,0.8,"<-- Define Custom Numbers Here"]
[null,null,null,0,0.8,0.8,0.8,0.8,0.8,"<-- Define Custom Numbers Here"]
[null,null,null,0,0.8,0.8,0.8,0.8,0.8,"<-- Define Custom Numbers Here"]
[null,null,null,0,0.8,0.8,0.8,0.8,0.8,"<-- Define Custom Numbers Here"]

{"sheet":"Chassis","index":8,"n_rows":18,"n_cols":21,"rows_kept":18,"cut":false,"hidden":false,"merged":[[0,1,0,2],[0,16,0,19],[0,12,0,15],[0,7,0,10]]}
["Chassis",null,null,"Total","Fans","HS Fan","HSBP ","PS Eff%",null,null,null,"Product Name","Total 12 DC Current (Amps)",null,null,null,"Total DC Ouput (Watts)"]
["Selection","12V","12VSB","Watts","12V","(Y/N)","VR Eff%","220VAC","115VAC","-48DCV","-60DCV",null,"220VAC","115VAC","-48DCV","-60DCV","220VAC","115VAC","-48DCV","-60DCV"]
["(Select Chassis)",null,null,null,null,null,1,1,1,1,1,"(Select a Chassis)"]
["R1XXX (1U 750W AC PSU)",{"$f":"INDEX(M4:P4,Summary!$B$19)","v":62},2.1,{"$f":"INDEX(Q4:T4,Summary!$B$19)","v":750},{"$f":"6*2.1","v":12.600000000000001},"N",0.9,0.94,0.92,null,null,"R1XXX",62,62,null,null,750,750]
["R1XXX (1U 750W DC PSU)",{"$f":"INDEX(M5:P5,Summary!$B$19)","v":0},2.1,{"$f":"INDEX(Q5:T5,Summary!$B$19)","v":0},{"$f":"6*2.1","v":12.600000000000001},"N",0.9,null,null,0.9,0.9,"R1XXX",null,null,62,62,null,null,750,750]
["R2XXX (2U 750W AC PSU)",{"$f":"INDEX(M6:P6,Summary!$B$19)","v":62},2.1,{"$f":"INDEX(Q6:T6,Summary!$B$19)","v":750},{"$f":"5*1.6","v":8},"Y",0.9,0.94,0.92,null,null,"R2XXX",62,62,null,null,750,750]
["R2XXX (2U 750W DC PSU)",{"$f":"INDEX(M7:P7,Summary!$B$19)","v":0},2.1,{"$f":"INDEX(Q7:T7,Summary!$B$19)","v":0},{"$f":"5*1.6","v":8},"Y",0.9,null,null,0.9,0.9,"R2XXX",null,null,62,62,null,null,750,750]
["R2XXX (2U 1100W AC PSU)",{"$f":"INDEX(M8:P8,Summary!$B$19)","v":92},2.1,{"$f":"INDEX(Q8:T8,Summary!$B$19)","v":1100},{"$f":"5*1.6","v":8},"Y",0.9,0.94,0.92,null,null,"R2XXX",92,75,null,null,1100,900]
["User Definable",{"$f":"INDEX(M9:P9,Summary!$B$19)","v":0},null,{"$f":"INDEX(Q9:T9,Summary!$B$19)","v":0},null,"N",0.8,0.8,0.8,0.8,0.8,null,null,null,null,null,null,null,null,null,"<-- Define Custom Numbers Here"]
["User Definable",{"$f":"INDEX(M10:P10,Summary!$B$19)","v":0},null,{"$f":"INDEX(Q10:T10,Summary!$B$19)","v":0},null,"N",0.8,0.8,0.8,0.8,0.8,null,null,null,null,null,null,null,null,null,"<-- Define Custom Numbers Here"]
["User Definable",{"$f":"INDEX(M11:P11,Summary!$B$19)","v":0},null,{"$f":"INDEX(Q11:T11,Summary!$B$19)","v":0},null,"N",0.8,0.8,0.8,0.8,0.8,null,null,null,null,null,null,null,null,null,"<-- Define Custom Numbers Here"]
["User Definable",{"$f":"INDEX(M12:P12,Summary!$B$19)","v":0},null,{"$f":"INDEX(Q12:T12,Summary!$B$19)","v":0},null,"N",0.8,0.8,0.8,0.8,0.8,null,null,null,null,null,null,null,null,null,"<-- Define Custom Numbers Here"]
["User Definable",{"$f":"INDEX(M13:P13,Summary!$B$19)","v":0},null,{"$f":"INDEX(Q13:T13,Summary!$B$19)","v":0},null,"N",0.8,0.8,0.8,0.8,0.8,null,null,null,null,null,null,null,null,null,"<-- Define Custom Numbers Here"]
[]
[]
[]
["Note: HS Fan  (Y/N) determines if an Active Heatsink (Heatsink with Fan) in Intel® Boxed Processors is used (adds fan power to budget)"]
["Note: PS Eff is estimate @ typ voltage & 35% to 90% loading based on PS measurement data."]

{"sheet":"Processors","index":9,"n_rows":38,"n_cols":6,"rows_kept":38,"cut":false,"hidden":false,"merged":[]}
["Processor Types","TDP (W)","HS Fan (A)","Source",null,"VRM#1"]
["(Select Processor)",null,null,null,null,"5V VRM"]
["Intel Xeon® E5-2699 v3 (145W)",145,null,"EDS rev1.7 - Intel Doc #507851"]
["Intel Xeon® E5-2698 v3 (135W)",135,null,"EDS rev1.7 - Intel Doc #507851"]
["Intel Xeon® E5-2697 v3 (145W)",145,null,"EDS rev1.7 - Intel Doc #507851"]
["Intel Xeon® E5-2695 v3 (120W)",120,null,"EDS rev1.7 - Intel Doc #507851"]
["Intel Xeon® E5-2690 v3 (135W)",135,null,"EDS rev1.7 - Intel Doc #507851"]
["Intel Xeon® E5-2683 v3 (120W)",120,null,"EDS rev1.7 - Intel Doc #507851"]
["Intel Xeon® E5-2680 v3 (120W)",120,null,"EDS rev1.7 - Intel Doc #507851"]
["Intel Xeon® E5-2670 v3 (120W)",120,null,"EDS rev1.7 - Intel Doc #507851"]
["Intel Xeon® E5-2667 v3 (135W)",135,null,"EDS rev1.7 - Intel Doc #507851"]
["Intel Xeon® E5-2660 v3 (105W)",105,null,"EDS rev1.7 - Intel Doc #507851"]
["Intel Xeon® E5-2650 v3 (105W)",105,null,"EDS rev1.7 - Intel Doc #507851"]
["Intel Xeon® E5-2650L v3 (65W)",65,null,"EDS rev1.7 - Intel Doc #507851"]
["Intel Xeon® E5-2643 v3 (135W)",135,null,"EDS rev1.7 - Intel Doc #507851"]
["Intel Xeon® E5-2640 v3 (90W)",90,null,"EDS rev1.7 - Intel Doc #507851"]
["Intel Xeon® E5-2637 v3 (135W)",135,null,"EDS rev1.7 - Intel Doc #507851"]
["Intel Xeon® E5-2630 v3 (85W)",85,null,"EDS rev1.7 - Intel Doc #507851"]
["Intel Xeon® E5-2630L v3 (55W)",55,null,"EDS rev1.7 - Intel Doc #507851"]
["Intel Xeon® E5-2623 v3 (105W)",105,null,"EDS rev1.7 - Intel Doc #507851"]
["Intel Xeon® E5-2620 v3 (85W)",85,null,"EDS rev1.7 - Intel Doc #507851"]
["Intel Xeon® E5-2609 v3 (85W)",85,null,"EDS rev1.7 - Intel Doc #507851"]
["Intel Xeon® E5-2603 v3 (85W)",85,null,"EDS rev1.7 - Intel Doc #507851"]
[" ",null,null,null,"<-- Define Custom Numbers Here"]
[" ",null,null,null,"<-- Define Custom Numbers Here"]
[" ",null,null,null,"<-- Define Custom Numbers Here"]
[null,null,null,null,"<-- Define Custom Numbers Here"]
[null,null,null,null,"<-- Define Custom Numbers Here"]
[null,null,null,null,"<-- Define Custom Numbers Here"]
[]
[]
["Processor Quantities (used for tool operation)"]
[1,1]
[2,2]
[3,3]
[4,4]
[]
["Note: HS Fan = Fan 12v current for Active Heatsink which ships with Intel® Boxed Processors"]

{"sheet":"Memory","index":10,"n_rows":41,"n_cols":15,"rows_kept":41,"cut":false,"hidden":false,"merged":[[3,1,3,8],[0,1,0,8],[4,12,4,14]]}
[null,"Watts of +12V"]
[]
[null,"1DPC","1DPC","1DPC","1DPC","1&2DPC","2DPC","2&3DPC","3DPC"]
[null,"# of DIMMS"]
["Memory",1,2,4,8,12,16,20,24,null,null,null,"TDP"]
[]
["(Select Memory)",null,null,null,null,null,null,null,null,null,null,null,"1DPC","2DPC","3DPC"]
["4GB DDR4 RDIMM (4Gb, SRx8)",{"$f":"M8*B$5","v":3.2},{"$f":"M8*C$5","v":6.4},{"$f":"M8*D$5","v":12.8},{"$f":"M8*E$5","v":25.6},{"$f":"M8*4 +N8*8","v":32},{"$f":"N8*16","v":38.4},{"$f":"N8*16+O8*4","v":45.6},{"$f":"O8*24","v":43.2},null,null,null,3.2,2.4,1.8]
["8GB DDR4 RDIMM (4Gb, SRx4)",{"$f":"M9*B$5","v":3.8},{"$f":"M9*C$5","v":7.6},{"$f":"M9*D$5","v":15.2},{"$f":"M9*E$5","v":30.4},{"$f":"M9*4 +N9*8","v":39.200000000000003},{"$f":"N9*16","v":48},{"$f":"N9*16+O9*4","v":57.6},{"$f":"O9*24","v":57.599999999999994},null,null,null,3.8,3,2.4]
["8GB DDR4 RDIMM (8Gb, SRx8)",{"$f":"M10*B$5","v":3.2},{"$f":"M10*C$5","v":6.4},{"$f":"M10*D$5","v":12.8},{"$f":"M10*E$5","v":25.6},{"$f":"M10*4 +N10*8","v":32},{"$f":"N10*16","v":38.4},{"$f":"N10*16+O10*4","v":46},{"$f":"O10*24","v":45.599999999999994},null,null,null,3.2,2.4,1.9]
["16GB DDR4 RDIMM (8Gb, SRx4)",{"$f":"M11*B$5","v":4},{"$f":"M11*C$5","v":8},{"$f":"M11*D$5","v":16},{"$f":"M11*E$5","v":32},{"$f":"M11*4 +N11*8","v":41.6},{"$f":"N11*16","v":51.2},{"$f":"N11*16+O11*4","v":61.6},{"$f":"O11*24","v":62.400000000000006},null,null,null,4,3.2,2.6]
["16GB DDR4 RDIMM (4Gb, DRx4)",{"$f":"M12*B$5","v":5},{"$f":"M12*C$5","v":10},{"$f":"M12*D$5","v":20},{"$f":"M12*E$5","v":40},{"$f":"M12*4 +N12*8","v":54.4},{"$f":"N12*16","v":68.8},{"$f":"N12*16+O12*4","v":83.2},{"$f":"O12*24","v":86.4},null,null,null,5,4.3,3.6]
["32GB DDR4 RDIMM (8Gb, DRx4)",5.5,11,22,44,60.4,76.8,92.8,96,null,null,null,5.5,4.8,4]
["32GB DDR4 LRDIMM (4Gb, QRx4)",10,20,40,80,108,136,163.6,165.60000000000002,null,null,null,10,8.5,6.9]
["64GB DDR4 LRDIMM (8Gb, QRx4)",10.8,21.6,43.2,86.4,118.4,150.4,181.6,187.2,null,null,null,10.8,9.4,7.8]
["User Definable",null,null,null,null,null,null,null,null,"<-- Define Custom Numbers Here"]
["User Definable",null,null,null,null,null,null,null,null,"<-- Define Custom Numbers Here"]
["User Definable",null,null,null,null,null,null,null,null,"<-- Define Custom Numbers Here"]
["User Definable",null,null,null,null,null,null,null,null,"<-- Define Custom Numbers Here",null,null,15.19,7.5,3.71]
["User Definable",null,null,null,null,null,null,null,null,"<-- Define Custom Numbers Here"]
["User Definable",null,null,null,null,null,null,null,null,"<-- Define Custom Numbers Here",null,null,"is this broken with single CPU?"]
[]
[]
[]
["Note:"]
["DIMM power will vary depending on the # of DIMMs & the actual stress/bandwidth used."]
["DIMMs are assumed to be evenly distributed across available channels on a 4 channel motherboard."]
["Numbers assume fan control set to performance mode"]
[]
[]
[0]
[1]
[2]
[4]
[8]
[12]
[16]
[20]
[24]
[28]
[32]

{"sheet":"PCI","index":11,"n_rows":58,"n_cols":8,"rows_kept":58,"cut":false,"hidden":false,"merged":[]}
[null,"Amps of +3.3V","Amps of +5V","Amps of +12V","Amps of    3.3V Stby","Amps of    5V Stby","Watts"]
["PCI Add in Cards"]
["Slot Empty",null,null,null,null,null," "]
["PCI-X (5V) Typical",null,2,null,null,null,{"$f":"B4*3.3+C4*5+D4*12+E4*3.3+F4*5","v":10}]
["PCIe (3V) Typical",3,null,null,null,null,9.8999999999999986]
["PCIe (3.3V / 12V) Typical",2,null,0.25,null,null,9.6]
["PCIe (3.3V / 12V) High",2,null,0.7,null,null,14.999999999999998]
["RS3DC080",0.79300000000000004,null,1.0900000000000001,1E-3,null,15.700200000000001]
["RES3FV288",null,null,1.04,null,null,12.48]
["PCIe SSD AIC (Cabled)",0.36,null,0.92,2E-3,null,12.234600000000002]
["Intel® Xeon Phi™ 5110P",1.3,null,{"$f":"220.7/12","v":18.391666666666666},null,null,224.98999999999998]
["Intel® Xeon Phi™ 3120A/P",1.3,null,{"$f":"295.7/12","v":24.641666666666666},null,null,299.99]
["Intel® Xeon Phi™ 7120P",1.3,null,{"$f":"295.7/12","v":24.641666666666666},null,null,299.99]
["User Definable ",null,null,null,null,null,{"$f":"B14*3.3+C14*5+D14*12+E14*3.3+F14*5","v":0},"<-- Define Custom Card Here"]
["User Definable ",null,null,null,null,null,0,"<-- Define Custom Card Here"]
["User Definable ",null,null,null,null,null,0,"<-- Define Custom Card Here"]
["User Definable ",null,null,null,null,null,0,"<-- Define Custom Card Here"]
["User Definable ",null,null,null,null,null,0,"<-- Define Custom Card Here"]
["User Definable ",null,null,null,null,null,0,"<-- Define Custom Card Here"]
["User Definable ",null,null,null,null,null,0,"<-- Define Custom Card Here"]
["User Definable ",null,null,null,null,null,0,"<-- Define Custom Card Here"]
["User Definable ",null,null,null,null,null,0,"<-- Define Custom Card Here"]
[]
["SAS ROC/IOC"]
["Slot Empty",null,null,null,null,null," "]
["RMS3JC080",null,null,1.59,1E-3,null,{"$f":"B26*3.3+C26*5+D26*12+E26*3.3+F26*5","v":19.083300000000001}]
["RMS3HC080",0.79300000000000004,null,0.91500000000000004,1E-3,null,13.600199999999999]
["RMS3CC080",0.79300000000000004,null,1.0900000000000001,1E-3,null,{"$f":"B28*3.3+C28*5+D28*12+E28*3.3+F28*5","v":15.700200000000001}]
["RMS25CB080 (Mezz ROC)",0.86,null,0.55000000000000004,0.2,null,{"$f":"B29*3.3+C29*5+D29*12+E29*3.3+F29*5","v":10.098000000000001}]
["RMT3CB080 (Imezz OM)",0.86,null,0.55000000000000004,0.2,null,{"$f":"B30*3.3+C30*5+D30*12+E30*3.3+F30*5","v":10.098000000000001}]
["User Definable ",null,null,null,null,null,{"$f":"B31*3.3+C31*5+D31*12+E31*3.3+F31*5","v":0},"<-- Define Custom Card Here"]
["User Definable ",null,null,null,null,null,0,"<-- Define Custom Card Here"]
[]
["Backup Battery"]
["Slot Empty",null,null,null,null,null," "]
["RMFBU2",null,null,0.5,3.0000000000000001E-3,null,{"$f":"B36*3.3+C36*5+D36*12+E36*3.3+F36*5","v":6.0099}]
["RMFBU3",null,null,0.23,3.0000000000000001E-3,null,2.7699000000000003]
["RMFBU5",null,null,0.23,3.0000000000000001E-3,null,2.7699000000000003]
["User Definable ",null,null,null,null,null,0,"<-- Define Custom Card Here"]
["User Definable ",null,null,null,null,null,0,"<-- Define Custom Card Here"]
[]
["IO Module"]
["Slot Empty",null,null,null,null,null," "]
["AXX1P40FRTIOM",null,null,0.4,0.06,null,{"$f":"B44*3.3+C44*5+D44*12+E44*3.3+F44*5","v":4.9980000000000011}]
["AXX2P40FRTIOM",null,null,0.49,0.06,null,6.0780000000000003]
["AXX10GBNIAIOM",1.4570000000000001,null,0.56999999999999995,2E-3,null,11.6547]
["AXX10GBTWLIOM",null,null,1.21,1.9E-2,0.03,14.732699999999999]
["AXX4P1GBPWLIOM",null,null,0.27,0.35,null,4.3949999999999996]
["AXX1FDRIBIOM",0.77,null,0.46,2E-3,null,8.0676000000000005]
["AXX2FDRIBIOM",1.23,null,0.46,2E-3,null,9.5856000000000012]
["User Definable ",null,null,null,null,null,0,"<-- Define Custom Card Here"]
["User Definable ",null,null,null,null,null,0,"<-- Define Custom Card Here"]
[]
["eUSB"]
["Slot Empty",null,null,null,null,null," "]
["Generic eUSB",null,null,null,0.08,null,{"$f":"B56*3.3+C56*5+D56*12+E56*3.3+F56*5","v":0.26400000000000001}]
["User Definable ",null,null,null,null,null,0,"<-- Define Custom Card Here"]
["User Definable ",null,null,null,null,null,0,"<-- Define Custom Card Here"]

{"sheet":"HardDrive","index":12,"n_rows":41,"n_cols":7,"rows_kept":41,"cut":false,"hidden":false,"merged":[]}
["Hard Drives","Amps of +3.3V","Amps of +5V","Amps of +12V","Watts"]
["Empty"]
["3.5\" SATA Typical Power (12W)",null,0.44,0.78,{"$f":"B3*3.3+C3*5+D3*12","v":11.559999999999999}]
["3.5\" SAS Typical Power (12W)",null,0.6,0.76,{"$f":"B4*3.3+C4*5+D4*12","v":12.120000000000001}]
["2.5\" SATA Typical Power (5W)",null,1,0,5]
["2.5\" SAS Typical Power (9W)",null,0.81,0.41,8.9700000000000006]
["Intel® PCIe SSD DC P3700",null,null,2.08,24.96]
["Intel® SSD DC S3700 Series SSDSC2BA800G3",null,1.1499999999999999,0.5,11.75]
["Intel® SSD DC S3500 Series SSDSC2BB080G4 ",null,0.4,0.18,4.16]
["3.5\" SAS Seagate ST3000NM0043 Constellation ES.3",null,0.44,0.71,{"$f":"B10*3.3+C10*5+D10*12","v":10.719999999999999},null,"<-- Define Custom Device Here"]
["3.5\" SATA HGST HUS724040ALE640 Ultrastar 7K4000",null,0.35,0.8,{"$f":"B11*3.3+C11*5+D11*12","v":11.350000000000001},null,"<-- Define Custom Device Here"]
["2.5\" SAS Seagate ST9000640SS Constellation.2",null,0.56000000000000005,0.3,6.4,null,"<-- Define Custom Device Here"]
["User Definable",null,null,null,0,null,"<-- Define Custom Device Here"]
["User Definable",null,null,null,0,null,"<-- Define Custom Device Here"]
["User Definable",null,null,null,0,null,"<-- Define Custom Device Here"]
["User Definable",null,null,null,0,null,"<-- Define Custom Device Here"]
["User Definable",null,null,null,0,null,"<-- Define Custom Device Here"]
["User Definable",null,null,null,0,null,"<-- Define Custom Device Here"]
["User Definable",null,null,null,0,null,"<-- Define Custom Device Here"]
[]
["HSBP","Amps of +3.3V","Amps of +5V","Amps of +12V","Watts","# of HDD"]
["Empty"]
["1U 4x3.5\" HSBP 12G",null,null,0.17,{"$f":"B23*3.3+C23*5+D23*12","v":2.04},4]
["1U 8x2.5\" HSBP 12G",null,null,0.25,3,8]
["1U Combo 8x2.5\" HSBP",null,null,0.25,3,8]
["2U 8x3.5\" HSBP 12G",null,null,0.25,3,8]
["2U 8x2.5\" HSBP 12G",null,null,0.11,1.32,8]
["2U 8x2.5\" HSBP Dual Channel 12G",null,null,0.12,1.44,8]
["2U Combo 8x2.5\" HSBP",null,null,0.11,1.32,8]
["2U 12x3.5\" HSBP 12G",null,null,0.4,4.8000000000000007,12]
["User Definable",null,null,null,0,null,"<-- Define Custom Device Here"]
["User Definable",null,null,null,0,null,"<-- Define Custom Device Here"]
["User Definable",null,null,null,0,null,"<-- Define Custom Device Here"]
["User Definable",null,null,null,0,null,"<-- Define Custom Device Here"]
["User Definable",null,null,null,0,null,"<-- Define Custom Device Here"]
["User Definable",null,null,null,0,null,"<-- Define Custom Device Here"]
[]
["Rear HSBP","Amps of +3.3V","Amps of +5V","Amps of +12V","Watts","# of HDD"]
["Empty"]
["2U 2x2.5\" Rear HSBP",0.12,null,null,{"$f":"B40*3.3+C40*5+D40*12","v":0.39599999999999996},2]
["User Definable",null,null,null,0,null,"<-- Define Custom Device Here"]

{"sheet":"Peripherals","index":13,"n_rows":24,"n_cols":7,"rows_kept":24,"cut":false,"hidden":false,"merged":[]}
["Misc Peripherals","Amps of +3.3V","Amps of +5V","Amps of +12V","Amps of 3VSB","Watts"]
["Slim-Line Devices"]
["Empty"]
["AXXSATADVDROM",null,0.7,null,null,{"$f":"B4*3.3+C4*5+D4*12++E4*3.3","v":3.5}]
["AXXSATADVDRWROM",null,0.8,null,null,{"$f":"B5*3.3+C5*5+D5*12++E5*3.3","v":4}]
["User Definable",null,null,null,null,0,"<-- Define Custom Peripherals Here"]
["User Definable",null,null,null,null,0,"<-- Define Custom Peripherals Here"]
["User Definable",null,null,null,null,0,"<-- Define Custom Peripherals Here"]
["User Definable",null,null,null,null,0,"<-- Define Custom Peripherals Here"]
[]
["SSD Drives"]
["Empty"]
["User Definable",null,null,null,null,{"$f":"B13*3.3+C13*5+D13*12++E13*3.3","v":0},"<-- Define Custom Peripherals Here"]
["User Definable",null,null,null,null,0,"<-- Define Custom Peripherals Here"]
["User Definable",null,null,null,null,0,"<-- Define Custom Peripherals Here"]
["User Definable",null,null,null,null,0,"<-- Define Custom Peripherals Here"]
[]
["Midplane SAS Expanders"]
["Empty"]
["RES3TV360",null,null,1.04,null,{"$f":"B20*3.3+C20*5+D20*12++E20*3.3","v":12.48}]
["User Definable",null,null,null,null,0,"<-- Define Custom Peripherals Here"]
["User Definable",null,null,null,null,0,"<-- Define Custom Peripherals Here"]
["User Definable",null,null,null,null,0,"<-- Define Custom Peripherals Here"]
["User Definable",null,null,null,null,0,"<-- Define Custom Peripherals Here"]

{"sheet":"Revision","index":14,"n_rows":11,"n_cols":4,"rows_kept":11,"cut":false,"hidden":false,"merged":[]}
[{"$f":"MAX(A4:A27)","v":"2014-10-01"},{"$f":"MAX(B4:B27)","v":1.1000000000000001},null,"<=== Linked to Summary Tab."]
[]
["Date","Rev","Notes","Init"]
["2013-09-23",0.1,"Initial Draft - working copy","mj"]
["2014-02-04",0.5,"Beta release for review","mj"]
["2014-02-25",0.6,"Updated Haswell CPU list, Feedback from Dan.","mj"]
["2014-06-25",0.8,"Updated for Silver","mj"]
["2014-07-22",0.9,"Final draft updates, adding AP list items and final power data for components.  French and Truches Valley, RAID modules (UC question.)","mj"]
["2014-09-02",1,"Final thermal config tables updated.  Prepared tool for external release.  Updated Thermal Configuration notes.","mj"]
["2014-09-03",1.1000000000000001,"Add third HDD type to 'Configure System' page.  \nPower updated for AXX1P40FRTIOM and AXX2P40FRTIOM.\nFan Fail Config updated due to addition of 1U support truss.","mj"]
["2014-10-01",1.1000000000000001,"Changed Wildcat Pass code names to marketing names.","mj"]